BEGIN:VCALENDAR
VERSION:2.0
PRODID:-//Accademia Olistica Albero della Vita - ECPv6.15.19//NONSGML v1.0//EN
CALSCALE:GREGORIAN
METHOD:PUBLISH
X-WR-CALNAME:Accademia Olistica Albero della Vita
X-ORIGINAL-URL:https://accademiaolisticalberodellavita.it
X-WR-CALDESC:Eventi per Accademia Olistica Albero della Vita
REFRESH-INTERVAL;VALUE=DURATION:PT1H
X-Robots-Tag:noindex
X-PUBLISHED-TTL:PT1H
BEGIN:VTIMEZONE
TZID:UTC
BEGIN:STANDARD
TZOFFSETFROM:+0000
TZOFFSETTO:+0000
TZNAME:UTC
DTSTART:20220101T000000
END:STANDARD
END:VTIMEZONE
BEGIN:VEVENT
DTSTART;TZID=UTC:20230603T100000
DTEND;TZID=UTC:20230604T190000
DTSTAMP:20260424T153302
CREATED:20230310T093142Z
LAST-MODIFIED:20230310T093142Z
UID:4997-1685786400-1685905200@accademiaolisticalberodellavita.it
SUMMARY:L.E.T. – LIGHT ESSENCE TOUCH™
DESCRIPTION:IL CORSO SI SVOLGE IN PRESENZA IN VIA F. BETTI\, 6 IDICE – S. LAZZARO DI SAVENA (BO) \nE CONTEMPORANEAMENTE IN DIRETTA ONLINE SU PIATTAFORMA ZOOM \ndocente: Maria Cristina Sapori \nProgramma del corso teorico/pratico \nL’importanza di creare uno spazio sicuro \nCome percepire il campo energetico \nLa voce e il suono che riportano armonia \nPreparazione e purificazione dell’ambiente dove si pratica \nCome preparare le zone del corpo secondo gli antichi Esseni \nIncidenti o malattie: “Con chi siamo in guerra?” \nCome creare un’alleanza con il nostro giudice interiore \nL’Universo è un ologramma di campi magnetici che si alimentano attraverso le nostre forme-pensiero \nL.E.T. – LIGHT ESSENCE TOUCH™: trattamenti vibrazionali elaborati da tecniche Essene per lo scioglimento dei blocchi energetici e il corretto ripristino del flusso vitale: tecniche manuali\, uso della \nvoce\, utilizzo di oli essenziali. \nNello specifico: \n-esplorazione del campo energetico e suo riequilibrio attraverso il Palming \n-tecnica dell’ombrello per l’armonizzazione dei chakra \n-tecnica per irradiare la Forza di un chakra all’organo che gli corrisponde \n-tecnica per fermare le perdite d’energia \n-tecnica di attivazione dei centri del tallone e popliteo \n-trattamento di riequilibrio del Vishudda chakra \n-studio degli oli essenziali di: mirto – basilico – rosa damascena – tsuga canadensis \nSpray sinergici per la pulizia e l’armonizzazione dei campi aurici
URL:https://accademiaolisticalberodellavita.it/event/l-e-t-light-essence-touch/
END:VEVENT
BEGIN:VEVENT
DTSTART;TZID=UTC:20230611T100000
DTEND;TZID=UTC:20230611T190000
DTSTAMP:20260424T153302
CREATED:20230310T093313Z
LAST-MODIFIED:20230310T093313Z
UID:4999-1686477600-1686510000@accademiaolisticalberodellavita.it
SUMMARY:ORIENTAMENTO PROFESSIONALE PER OPERATORI OLISTICI  (EX DEONTOLOGIA)
DESCRIPTION:  \nIL CORSO SI SVOLGE IN DIRETTA ONLINE SU PIATTAFORMA ZOOM \ndocente: Maria Cristina Sapori\nProgramma del corso\nLa presa in carico del cliente\nConsenso informato\, tutela della privacy Rapporti con i clienti e con i colleghi Educazione continua professionale: ECP Aggiornamenti e norme\nSpazio interattivo per domande
URL:https://accademiaolisticalberodellavita.it/event/orientamento-professionale-per-operatori-olistici-ex-deontologia/
END:VEVENT
BEGIN:VEVENT
DTSTART;TZID=UTC:20230618T093000
DTEND;TZID=UTC:20230618T130000
DTSTAMP:20260424T153302
CREATED:20230310T093500Z
LAST-MODIFIED:20230414T201222Z
UID:5001-1687080600-1687093200@accademiaolisticalberodellavita.it
SUMMARY:SESSIONE D’ESAME FINALE PER IL CONSEGUIMENTO DEL TITOLO DI “OPERATORE OLISTICO A INDIRIZZO VIBRAZIONALE INTEGRATO”
DESCRIPTION:  \nL’ESAME SI SVOLGE IN PRESENZA PRESSO ACCADEMIA OLISTICA ALBERO DELLA VITA VIA F. BETTI\, IDICE–S. LAZZARO DI SAVENA (BO)\nNOTA BENE: L’assistenza per la stesura dell’elaborato finale e la sessione d’esame ordinario prevedono un contributo di € 95.
URL:https://accademiaolisticalberodellavita.it/event/sessione-desame-finale-per-il-conseguimento-del-titolo-di-operatore-olistico-a-indirizzo-vibrazionale-integrato-2/
END:VEVENT
BEGIN:VEVENT
DTSTART;TZID=UTC:20230618T100000
DTEND;TZID=UTC:20230618T190000
DTSTAMP:20260424T153302
CREATED:20230414T201035Z
LAST-MODIFIED:20230414T201035Z
UID:5247-1687082400-1687114800@accademiaolisticalberodellavita.it
SUMMARY:REIKI 2° LIVELLLO
DESCRIPTION:IL CORSO SI SVOLGE IN PRESENZA PRESSO IL CENTRO OLISTICO MAJO OM VIA OLMENTOLA 42 BOLOGNA \nContributo richiesto € 165\, comprensivi di dispensa di studio rilegata e attestato di frequenza \nProgramma del corso teorico – esperienziale\n-Cos’è il Reiki di 2° livello: potenzialità e utilizzi Reiki in connessione con: salute e riequilibrio�\n-ricordare e applicare il potere e il potenziale divino -crescita evolutiva -meccanismi di difesa dell’Io\, le strategie – Presentazione degli strumenti di 2° livello: simboli cosmici\, visualizzazione creativa\, verbalizzazione positiva\, rievocazione – Cosa significa essere Canali Reiki: autotrattamento\, trattamento a persone\, piante\, animali\, cibo\, acqua\, oggetti – Iniziazione del 2° Livello Reiki – Condivisione dell’esperienza -Come si utilizzano gli strumenti alternandoli secondo il proprio sentire -Prove pratiche nel sentire i simboli (sulle mani\, nei trattamenti) – Schemi operativi del 2° Livello: come si disegnano i simboli -rapporto disegno simbolo – pronuncia mantra -5 casi di Procedura di Contatto -Sequenza 3° – 2° – 1° -Obiettivo del trattamento -Autotrattamento 2° Livello + forma alternativa di una sola posizione – Trattamento ad altri fisicamente presenti + forma alternativa di una sola posizione -Trattamento ad altri fisicamente NON presenti -Trattamento a situazioni -Trattamento a bambina/o interiore -Trattamento più profondo con essenza del ricevente Altri possibili utilizzi del 2° Livello: ambienti -protezione -casa Reiki – Prova pratica del Sentire: Trattamento di gruppo a una persona lontana. Condivisione dell’esperienza \ndocente: Master Reiki Jolanda Murero
URL:https://accademiaolisticalberodellavita.it/event/reiki-2-livelllo/
END:VEVENT
BEGIN:VEVENT
DTSTART;TZID=UTC:20230624T100000
DTEND;TZID=UTC:20230624T190000
DTSTAMP:20260424T153302
CREATED:20230310T093841Z
LAST-MODIFIED:20230310T093841Z
UID:5003-1687600800-1687633200@accademiaolisticalberodellavita.it
SUMMARY: REIKI – 1° livello
DESCRIPTION:  \nIL CORSO SI SVOLGE IN PRESENZA IN VIA OLMETOLA 42 BOLOGNA \ndocente: Master Reiki Iolanda Murero \nContributo richiesto € 145\, comprensivi di dispensa di studio rilegata e attestato di frequenza \nProgramma del corso teorico-esperienziale\n– Cosa è Reiki: significato del termine e comprensione del Metodo\nOriginale del Dott. Mikao Usui.\n– Esperienza Reiki in connessione con:\nsalute e disequilibrio\npercezione di realtà\ncrescita evolutiva\n– Effetti del Reiki: cosa succede dopo l’iniziazione a livello:\nfisico\, emozionale\, mentale\, spirituale\n– Cosa significa essere Canali Reiki\n– Cosa sono e come si svolgono le Quattro Iniziazioni\n– Prima e Secondo Iniziazione del 1° Livello Reiki\n– Cenni sui Chakra\n– La pratica del Reiki nel quotidiano\n– Esperimento pseudo kinesiologico con cellulare e tormalina\n– Bilanciatura al Cuore: come si tengono le mani nel Reiki e significato profondo bilanciatura\n– Prova del Sentire: esercizi pratici per sentire l’energia- Auto trattamento: perché farlo e come si fa – Trattamento agli altri: il significato del trattare altre persone e le\ndiverse modalità di esecuzione del trattamento\n– Come si eseguono i vari trattamenti Reiki:\nTrattamento ai bambini -Trattamento agli animali -Trattamento alle piante -Trattamento al cibo e all’acqua -Trattamento ai cristalli\n– Consigli pratici\n– Cosa fare dopo le Iniziazioni: scambi\, auto trattamento e\nosservazione degli effetti che si hanno (purificazione energetica)\n– Terza e Quarta Iniziazione del 1° Livello Reiki\n– Condivisione dell’esperienza.\n– Pratica in aula: scambio Reiki a coppie con verifica della pressione\ndelle mani
URL:https://accademiaolisticalberodellavita.it/event/reiki-1-livello-12/
END:VEVENT
END:VCALENDAR