BEGIN:VCALENDAR
VERSION:2.0
PRODID:-//Accademia Olistica Albero della Vita - ECPv6.15.19//NONSGML v1.0//EN
CALSCALE:GREGORIAN
METHOD:PUBLISH
X-WR-CALNAME:Accademia Olistica Albero della Vita
X-ORIGINAL-URL:https://accademiaolisticalberodellavita.it
X-WR-CALDESC:Eventi per Accademia Olistica Albero della Vita
REFRESH-INTERVAL;VALUE=DURATION:PT1H
X-Robots-Tag:noindex
X-PUBLISHED-TTL:PT1H
BEGIN:VTIMEZONE
TZID:UTC
BEGIN:STANDARD
TZOFFSETFROM:+0000
TZOFFSETTO:+0000
TZNAME:UTC
DTSTART:20220101T000000
END:STANDARD
END:VTIMEZONE
BEGIN:VEVENT
DTSTART;TZID=UTC:20230902T100000
DTEND;TZID=UTC:20230903T190000
DTSTAMP:20260422T040601
CREATED:20230802T095234Z
LAST-MODIFIED:20230818T150456Z
UID:6094-1693648800-1693767600@accademiaolisticalberodellavita.it
SUMMARY:E.F.T. E HO’OPONOPONO: RIPORTA ARMONIA\, GIOIA E PERDONO NELLA TUA VITA
DESCRIPTION:  \nIL CORSO SI SVOLGE IN DIRETTA ONLINE SU PIATTAFORMA ZOOM \nDocente: Maria Cristina Sapori \nContributo richiesto € 168\, comprensivi di dispensa di studio\, registrazione dell’intero corso e attestato di frequenza inviati online \nProgramma del corso teorico-esperienziale \nTecnica di Libertà Emozionale EFT \n-Tapping (picchiettamento) per il Riequilibrio Emozionale: come si esegue -Punti Allarme e Meridiani Energetici \n-Polarità e inversione psicologica \n-Come formulare affermazioni che neutralizzino l’inversione psicologica -La Sequenza \n-La Procedura 9 Gamma \n-Valutazione dell’assetto emozionale \n-Applicazioni successive di assestamento \n-Come scardinare le cristallizazioni derivate dalle emozioni disarmoniche: \n-Esempi pratici\, esercizi e pratica della tecnica \n-Domande e risposte con esempi di casi \nHO’OPONOPONO \n-I punti chiave di Ho’Oponopono \n-I 3 Sé Interiori: -Supercosciente -Cosciente – Subcosciente -Imparare a fluire e a fidarci dell’Amore Universale \n-I 12 Passi di Oh’Oponopono \n-Forma Ho’Oponopono semplificata \n-Come portare la concentrazione sulla persona o sulla situazione sulla quale si pratica Ho’Oponopono -Comprensione approfondita del mantra di Ho’Oponopono: “Mi dispiace Perdonami Grazie Ti amo” -Preghiera di chiusura e ringraziamento \n-Come unire le 2 Tecniche di Liberazione Emozionali (EFT e HO’OPONOPONO) per ottenere risultati efficaci e duraturi \n-Esercizi e pratica insieme \n-Domande e risposte con esempi di casi
URL:https://accademiaolisticalberodellavita.it/event/tecniche-di-liberta-emozionale-e-f-t-e-hooponopono/
END:VEVENT
BEGIN:VEVENT
DTSTART;TZID=UTC:20230907T203000
DTEND;TZID=UTC:20230907T230000
DTSTAMP:20260422T040601
CREATED:20230801T150503Z
LAST-MODIFIED:20230801T151146Z
UID:6081-1694118600-1694127600@accademiaolisticalberodellavita.it
SUMMARY:ATTIVAZIONE DEL DNA MULTIDIMENSIONALE 3° incontro serale
DESCRIPTION:IL PERCORSO DI ATTIVAZIONE E’ RISERVATO ESCLUSIVAMENTE A CHI HA FATTO IL CORSO SUI 12 RAGGI DI LUCE CON MARIA CRISTINA SAPORI \nORARI CORSO: dalle 20\,30 alle 23 in diretta online su piattaforma ZOOM \nDocente: Maria Cristina Sapori \nProgramma del corso teorico-esperienziale \n-Comprendere cos’è il nostro DNA Multidimensionale\, nel  quale sono contenute tutte le informazioni indispensabili per risvegliare la nostra Coscienza Superiore. Il DNA Multidimensionale è il portale di accesso alle dimensioni superiori e in esso sono racchiusi i nostri talenti e le nostre maestrie. E’ il luogo dove si attiva la connessione con il nostro Sé Superiore e con la nostra saggezza profonda \n-Comprensione e studio di ognuno dei 12 filamenti del DNA Mutidimensionale \n-Attivazione dei1° gruppo di filamenti del nostro DNA Multidimensionale  attraverso l’Intento Puro  per poter accedere all’espressione del nostro pieno potenziale.  \n-Meditazione finale per integrare l’attivazione del proprio DNA Multidimensionale per accedere alla piena consapevolezza del nostro potenziale \nContributo richiesto per ogni incontro € 27\, comprensivi di dispensa di studio. Alla fine dei 4 incontri sarà rilasciato l’attestato di frequenza del percorso.
URL:https://accademiaolisticalberodellavita.it/event/attivazione-del-dna-multidimensionale-3-incontro-serale/
ATTACH;FMTTYPE=image/jpeg:https://accademiaolisticalberodellavita.it/wp-content/uploads/2023/05/dna.jpg
END:VEVENT
BEGIN:VEVENT
DTSTART;TZID=UTC:20230914T203000
DTEND;TZID=UTC:20230914T230000
DTSTAMP:20260422T040601
CREATED:20230503T094922Z
LAST-MODIFIED:20230801T151229Z
UID:5933-1694723400-1694732400@accademiaolisticalberodellavita.it
SUMMARY:ATTIVAZIONE DEL DNA MULTIDIMENSIONALE 4° INCONTRO
DESCRIPTION:IL PERCORSO DI ATTIVAZIONE E’ RISERVATO ESCLUSIVAMENTE A CHI HA FATTO IL CORSO SUI 12 RAGGI DI LUCE CON MARIA CRISTINA SAPORI \nORARI CORSO: dalle 20\,30 alle 23 in diretta online su piattaforma ZOOM \nDocente: Maria Cristina Sapori \nProgramma del corso teorico-esperienziale \n-Comprendere cos’è il nostro DNA Multidimensionale\, nel  quale sono contenute tutte le informazioni indispensabili per risvegliare la nostra Coscienza Superiore. Il DNA Multidimensionale è il portale di accesso alle dimensioni superiori e in esso sono racchiusi i nostri talenti e le nostre maestrie. E’ il luogo dove si attiva la connessione con il nostro Sé Superiore e con la nostra saggezza profonda \n-Comprensione e studio di ognuno dei 12 filamenti del DNA Mutidimensionale \n-Attivazione dei1° gruppo di filamenti del nostro DNA Multidimensionale  attraverso l’Intento Puro  per poter accedere all’espressione del nostro pieno potenziale.  \n-Meditazione finale per integrare l’attivazione del proprio DNA Multidimensionale per accedere alla piena consapevolezza del nostro potenziale \nContributo richiesto per ogni incontro € 27\, comprensivi di dispensa di studio. Alla fine dei 4 incontri sarà rilasciato l’attestato di frequenza del percorso.
URL:https://accademiaolisticalberodellavita.it/event/attivazione-del-dna-multidimensionale-4-incontro/
ATTACH;FMTTYPE=image/jpeg:https://accademiaolisticalberodellavita.it/wp-content/uploads/2023/05/dna.jpg
END:VEVENT
BEGIN:VEVENT
DTSTART;TZID=UTC:20230917T100000
DTEND;TZID=UTC:20230917T190000
DTSTAMP:20260422T040601
CREATED:20230802T130043Z
LAST-MODIFIED:20230802T130043Z
UID:6096-1694944800-1694977200@accademiaolisticalberodellavita.it
SUMMARY:REIKI – 2° LIVELLO
DESCRIPTION:IL CORSO SI SVOLGE IN PRESENZA PRESSO IL CENTRO OLISTICO MAJO OM VIA OLMENTOLA 42 BOLOGNA \ndocente: Master Reiki Jolanda Murero \nContributo richiesto € 165\, comprensivi di dispensa di studio rilegata e attestato di frequenza \nProgramma del corso teorico – esperienziale \n-Cos’è il Reiki di 2° livello: potenzialità e utilizzi Reiki in connessione con: salute e riequilibrio -ricordare e applicare il potere e il potenziale divino -crescita evolutiva -meccanismi di difesa dell’Io\, le strategie – Presentazione degli strumenti di 2° livello: simboli cosmici\, visualizzazione creativa\, verbalizzazione positiva\, rievocazione – Cosa significa essere Canali Reiki: autotrattamento\, trattamento a persone\, piante\, animali\, cibo\, acqua\, oggetti – Iniziazione del 2° Livello Reiki – Condivisione dell’esperienza -Come si utilizzano gli strumenti alternandoli secondo il proprio sentire -Prove pratiche nel sentire i simboli (sulle mani\, nei trattamenti) – Schemi operativi del 2° Livello: come si disegnano i simboli -rapporto disegno simbolo – pronuncia mantra -5 casi di Procedura di Contatto -Sequenza 3° – 2° – 1° -Obiettivo del trattamento -Autotrattamento 2° Livello + forma alternativa di una sola posizione – Trattamento ad altri fisicamente presenti + forma alternativa di una sola posizione -Trattamento ad altri fisicamente NON presenti -Trattamento a situazioni -Trattamento a bambina/o interiore -Trattamento più profondo con essenza del ricevente Altri possibili utilizzi del 2° Livello: ambienti -protezione -casa Reiki – Prova pratica del Sentire: Trattamento di gruppo a una persona lontana. Condivisione dell’esperienza \n 
URL:https://accademiaolisticalberodellavita.it/event/reiki-2-livello-3/
END:VEVENT
BEGIN:VEVENT
DTSTART;TZID=UTC:20230923T100000
DTEND;TZID=UTC:20230924T190000
DTSTAMP:20260422T040601
CREATED:20230802T130240Z
LAST-MODIFIED:20230802T130240Z
UID:6098-1695463200-1695582000@accademiaolisticalberodellavita.it
SUMMARY:CHAKRA REBALANCING – 1° Livello
DESCRIPTION:IL CORSO SI SVOLGE IN DIRETTA ONLINE SU PIATTAFORMA ZOOM E CONTEMPORANEAMENTE IN PRESENZA A S. LAZZARO DI SAVENA (BO) VIA F. BETTI\, 6 \ndocente: Maria Cristina Sapori \nContributo richiesto per il corso in aula € 189 comprensivi di dispensa di studio rilegata\, registrazione dell’intero corso e attestato di frequenza cartaceo \nContributo richiesto per il corso in diretta online su piattaforma ZOOM € 168\, comprensivi di dispensa di studio\, registrazione dell’intero corso e attestato di frequenza inviati online \nProgramma del corso teorico-esperienziale \nI Chakra principali: capire come funzionano e come influiscono sul nostro corpo e sulle nostre emozioni. Riconoscere quali sono i loro segnali di squilibrio e imparare ad armonizzarli \nAttivazione dei Chakra inferiori: Esercizi e pratiche di riequilibrio energetico per aumentare energia e vitalità \nAttivazione del Chakra del cuore: ricevere e dare amore\, attraverso il riconoscimento della propria unicità \nAttivazione dei Chakra superiori: meditazioni creative\, mantra di purificazione e protezione. La preghiera come ponte sacro tra noi e le nostre Guide Celesti \nDurante ogni incontro impareremo come riequilibrare ogni centro d’energia attraverso l’utilizzo di: \nTecniche di respirazione consapevole \nCanto di mantra sacri di purificazione e protezione \nMeditazione creativa guidata \nCreazione di Mandala di Luce
URL:https://accademiaolisticalberodellavita.it/event/chakra-rebalancing-1-livello-2/
END:VEVENT
END:VCALENDAR