BEGIN:VCALENDAR
VERSION:2.0
PRODID:-//Accademia Olistica Albero della Vita - ECPv6.15.19//NONSGML v1.0//EN
CALSCALE:GREGORIAN
METHOD:PUBLISH
X-WR-CALNAME:Accademia Olistica Albero della Vita
X-ORIGINAL-URL:https://accademiaolisticalberodellavita.it
X-WR-CALDESC:Eventi per Accademia Olistica Albero della Vita
REFRESH-INTERVAL;VALUE=DURATION:PT1H
X-Robots-Tag:noindex
X-PUBLISHED-TTL:PT1H
BEGIN:VTIMEZONE
TZID:UTC
BEGIN:STANDARD
TZOFFSETFROM:+0000
TZOFFSETTO:+0000
TZNAME:UTC
DTSTART:20220101T000000
END:STANDARD
END:VTIMEZONE
BEGIN:VEVENT
DTSTART;TZID=UTC:20231001T100000
DTEND;TZID=UTC:20231001T190000
DTSTAMP:20260424T081808
CREATED:20230802T130948Z
LAST-MODIFIED:20230802T130948Z
UID:6103-1696154400-1696186800@accademiaolisticalberodellavita.it
SUMMARY:REIKI – 1° LIVELLO
DESCRIPTION:IL CORSO SI SVOLGE IN PRESENZA IN VIA OLMETOLA 42 BOLOGNA docente: Master Reiki Iolanda Murero \nContributo richiesto € 155\, comprensivi di dispensa di studio rilegata e attestato di frequenza \nProgramma del corso teorico-esperienziale \n– Cosa è Reiki: significato del termine e comprensione del Metodo Originale del Dott. Mikao Usui. \n– Esperienza Reiki in connessione con: \nsalute e disequilibrio \npercezione di realtà \ncrescita evolutiva \n– Effetti del Reiki: cosa succede dopo l’iniziazione a livello: fisico\, emozionale\, mentale\, spirituale \n– Cosa significa essere Canali Reiki \n– Cosa sono e come si svolgono le Quattro Iniziazioni \n– Prima e Secondo Iniziazione del 1° Livello Reiki \n– Cenni sui Chakra \n– La pratica del Reiki nel quotidiano \n– Esperimento pseudo kinesiologico con cellulare e tormalina \n– Bilanciatura al Cuore: come si tengono le mani nel Reiki e significato profondo bilanciatura \n– Prova del Sentire: esercizi pratici per sentire l’energia- Auto trattamento: perché farlo e come si fa – \nTrattamento agli altri: il significato del trattare altre persone e le diverse modalità di esecuzione del trattamento \n– Come si eseguono i vari trattamenti Reiki: \nTrattamento ai bambini -Trattamento agli animali -Trattamento alle piante -Trattamento al cibo e all’acqua -Trattamento ai cristalli \n– Consigli pratici \n– Cosa fare dopo le Iniziazioni: scambi\, auto trattamento e osservazione degli effetti che si hanno (purificazione energetica) \n– Terza e Quarta Iniziazione del 1° Livello Reiki \n– Condivisione dell’esperienza. \n– Pratica in aula: scambio Reiki a coppie con verifica della pressione delle mani
URL:https://accademiaolisticalberodellavita.it/event/reiki-1-livello-13/
END:VEVENT
BEGIN:VEVENT
DTSTART;TZID=UTC:20231007T100000
DTEND;TZID=UTC:20231008T190000
DTSTAMP:20260424T081808
CREATED:20230802T131135Z
LAST-MODIFIED:20230802T131135Z
UID:6105-1696672800-1696791600@accademiaolisticalberodellavita.it
SUMMARY:RIFLESSOLOGIA PLANTARE OLISTICA INTEGRATA - 1° MODULO
DESCRIPTION:IL CORSO SI SVOLGE IN PRESENZA IN VIA OLMETOLA\, 42 BOLOGNA \ndocente: Sonja Demuru \nContributo richiesto € 189\, comprensivi di dispensa di studio rilegata e attestato di frequenza cartaceo \nProgramma teorico-pratico \n-Storia della Riflessologia Plantare fra Oriente e Occidente -L’approccio Olistico\, analisi visiva e tattile -Indicazioni\, controindicazioni e reazioni \n-Struttura del piede \n-La tecnica e le prese \n-Yin e Yang\, I Tre Tesori\, Organi pieni e visceri \nMOVIMENTO ACQUA: COPPIA RENE/VESCICA \n-L’energia innata: Il Sistema Urinario \n-Il Sistema Riproduttivo \n-La Colonna Vertebrale e il Midollo
URL:https://accademiaolisticalberodellavita.it/event/riflessologia-plantare-olistica-integrata-1-modulo-2/
END:VEVENT
BEGIN:VEVENT
DTSTART;TZID=UTC:20231014T100000
DTEND;TZID=UTC:20231015T190000
DTSTAMP:20260424T081808
CREATED:20230802T131446Z
LAST-MODIFIED:20230807T204617Z
UID:6110-1697277600-1697396400@accademiaolisticalberodellavita.it
SUMMARY:NUMEROLOGIA EVOLUTIVA INTEGRATA™ 2° LIVELLO
DESCRIPTION:IL CORSO SI SVOLGE IN DIRETTA ONLINE SU PIATTAFORMA ZOOM \ndocente: Maria Cristina Sapori \nContributo richiesto € 168\, comprensivi di dispensa di studio\, registrazione dell’intero corso e attestato di frequenza inviati online \nProgramma del corso teorico-pratico \n-Come costruire e interpretare il Quadrato di Nascita \n-Studio degli Indicatori del Quadrato di Nascita che indicano predisposizioni\, attitudini -Il Numero dei Talenti: come si ricava \n-Il Numero Personale dell’Anno \n-Comprendere i cambiamenti che avvengono nella vita durante i Cicli dei 9 Anni: \n-Suddivisione della vita in 4 fasi evolutive: Anni di Picco e Anni di Sfida \n-Cenni sul legame fra Astrologia e Numerologia
URL:https://accademiaolisticalberodellavita.it/event/numerologia-evolutiva-integrata-2-livello-3/
END:VEVENT
BEGIN:VEVENT
DTSTART;TZID=UTC:20231015T100000
DTEND;TZID=UTC:20231015T190000
DTSTAMP:20260424T081808
CREATED:20230802T131650Z
LAST-MODIFIED:20230802T131650Z
UID:6112-1697364000-1697396400@accademiaolisticalberodellavita.it
SUMMARY:REIKI – LIVELLO 3/A
DESCRIPTION:IL CORSO SI SVOLGE IN PRESENZA PRESSO IN VIA OLMENTOLA 42 BOLOGNA  \ndocente: Master Reiki Jolanda Murero \nContributo richiesto € 195\, comprensivi di dispensa di studio rilegata e attestato di frequenza cartaceo \nProgramma del corso teorico-esperienziale \n– Cosa è il Reiki di Terzo Livello 3A: potenzialità del Simbolo Dai Ko Myo; \n– Il Reiki di Terzo Livello 3A come espressione di LUCE e SILENZIO. In quanto Metodo Naturale di Risveglio dello Spirito\, il Terzo Livello Usui Reiki\, attraverso l’iniziazione al Simbolo Dai Ko Myo\, porta a un ulteriore potentissimo salto vibrazionale; \nPRESENTAZIONE DEGLI STRUMENTI DI TERZO LIVELLO A: \n– il Simbolo Dai Ko Myo: come si disegna e come si utilizza: il “NON-FARE” come superiore e più consapevole stato di presenza; \n– Il concetto di “silenzio interiore” contrapposto a quello dell’incessante “dialogo interiore”; spiegazione di come Dai Ko Myo agisca su principi completamente diversi da quelli dei simboli di Secondo Livello; concetto di equilibrio dinamico tra rilassamento e concentrazione. \n– Riconoscere\, ascoltare e coltivare il silenzio; diventare Dai Ko Myo; \n– Esercizio Meditativo sul Dai Ko Myo per aumentare la risonanza con esso: teoria e pratica; \n– Modalità d’utilizzo dei Simboli alla luce del Dai Ko Myo; diverse possibilità di utilizzo di Dai Ko Myo nei trattamenti; \n– Esercizio di visualizzazione e percezione con tutti e quattro i Simboli del Reiki: Choku Rei\, Sei Heki\, Hon \nSha Ze Sho Nen e Dai Ko Myo: teoria e pratica; \nINIZIAZIONE DI TERZO LIVELLO REIKI 3A \n– Condivisione dellʼesperienza\, sensazioni ed emozioni; \n– Come si utilizza il Reiki di Terzo Livello A \n– autotrattamento; trattamento a persone presenti; trattamento a distanza; \n– Prove pratiche nel sentire l’energia di Dai Ko Myo (mani\, trattamenti); \n– Esercizio Meditativo con il Mantra Dai Ko Myo; teoria e pratica; \n– Esercizio Meditativo con Dai Ko Myo per la realizzazione dell’Intento; teoria e pratica; \n– Dai Ko Myo è Protezione; \n– Dai Ko Myo è Purificazione; \n– Trattamento Reiki a Distanza con i Cristalli; \n– Antahkarana; \n– Griglia di Cristalli con Antahkarana; \n– PROVA PRATICA: scambio Reiki a coppie con l’utilizzo dei quattro simboli; \n– CONDIVISIONE dell’esperienza.
URL:https://accademiaolisticalberodellavita.it/event/reiki-livello-3-a-5/
END:VEVENT
BEGIN:VEVENT
DTSTART;TZID=UTC:20231019T203000
DTEND;TZID=UTC:20231019T220000
DTSTAMP:20260424T081808
CREATED:20231016T073052Z
LAST-MODIFIED:20231016T073052Z
UID:6406-1697747400-1697752800@accademiaolisticalberodellavita.it
SUMMARY:INCONTRO GRATUITO APERTO A TUTTI I PARTECIPANTI DI QUESTO GRUPPO WHATSAPP: “PERCHE’ UTILIZZARE I CRISTALLI NEI TRATTAMENTI VIBRAZIONALI + MEDITAZIONE CRISTALLINA GUIDATA” docente: Mara Swami Ricci dalle 20\,30 alle 21\,45 su PIATTAFORMA ZOOM
DESCRIPTION:
URL:https://accademiaolisticalberodellavita.it/event/incontro-gratuito-aperto-a-tutti-i-partecipanti-di-questo-gruppo-whatsapp-perche-utilizzare-i-cristalli-nei-trattamenti-vibrazionali-meditazione-cristallina-guidata-docen/
END:VEVENT
BEGIN:VEVENT
DTSTART;TZID=UTC:20231021T100000
DTEND;TZID=UTC:20231022T190000
DTSTAMP:20260424T081808
CREATED:20230802T131900Z
LAST-MODIFIED:20230920T191107Z
UID:6114-1697882400-1698001200@accademiaolisticalberodellavita.it
SUMMARY:FLORAL MASSAGE™
DESCRIPTION:IL CORSO SI SVOLGE IN DIRETTA ONLINE SU PIATTAFORMA ZOOM E CONTEMPORANEAMENTE IN PRESENZA IN VIA F. BETTI\, 6 S. LAZZARO DI SAVENA (BO) \ndocente: Maria Cristina Sapori \nContributo richiesto per il corso in aula € 189 comprensivi di dispensa di studio rilegata\, registrazione dell’intero corso e attestato di frequenza cartaceo \nContributo richiesto per il corso in diretta online su piattaforma ZOOM € 168\, comprensivi di dispensa di studio\, registrazione dell’intero corso e attestato di frequenza inviati online \nProgramma del corso teorico-esperienziale \nCollegamenti tra gli oli essenziali e i pianeti del Sistema Solare per comprendere le loro caratteristiche energetiche\, la loro natura riscaldante o rinfrescante e il loro corretto utilizzo per corpo e mente Studio e applicazioni pratiche di: Albero del the – Arancio dolce – Neroli (arancio amaro) – Cipresso – Citronella – Eucalipto – Finocchio Dolce – Geranio – Lavanda – Melissa – Pino Silvestre – Rosmarino – Salvia – Timo Bianco – Zenzero \nFLORAL MASSAGE: tecniche di applicazione di oli essenziali ed essenze floreali (Fiori di Bach\, Fiori Californiani e Australian Bush) nei: trattamenti antistress – trattamenti per il riequilibrio osteoarticolare – trattamenti preparatori allo sforzo muscolare – trattamenti di mani – piedi – orecchie – addome – zona lombo sacrale \nConsigli e indicazioni per la preparazione di creme e unguenti a base di oli essenziali ed essenze floreali
URL:https://accademiaolisticalberodellavita.it/event/floral-massage-4/
ATTACH;FMTTYPE=image/jpeg:https://accademiaolisticalberodellavita.it/wp-content/uploads/2020/08/117173441_3258119537541413_287661268878536047_o.jpg
END:VEVENT
BEGIN:VEVENT
DTSTART;TZID=UTC:20231026T203000
DTEND;TZID=UTC:20231026T220000
DTSTAMP:20260424T081808
CREATED:20231016T073159Z
LAST-MODIFIED:20231016T073159Z
UID:6408-1698352200-1698357600@accademiaolisticalberodellavita.it
SUMMARY:26 ottobre 2023: GRUPPO DI STUDIO E SUPERVSIONE GRATUITO APERTO A TUTTI COLORO CHE HANNO FATTO IL CORSO: “CHAKRA REBALANCING – 1° MODULO” approfondimento degli argomenti trattati durante il corso docente: Maria Cristina Sapori  dalle 20\,30 alle 21\,45 su PIATTAFORMA ZOOM
DESCRIPTION:
URL:https://accademiaolisticalberodellavita.it/event/26-ottobre-2023-gruppo-di-studio-e-supervsione-gratuito-aperto-a-tutti-coloro-che-hanno-fatto-il-corso-chakra-rebalancing-1-modulo-approfondimento-degli-argomenti-t/
END:VEVENT
BEGIN:VEVENT
DTSTART;TZID=UTC:20231028T100000
DTEND;TZID=UTC:20231029T190000
DTSTAMP:20260424T081808
CREATED:20230802T132056Z
LAST-MODIFIED:20230920T191213Z
UID:6116-1698487200-1698606000@accademiaolisticalberodellavita.it
SUMMARY: CRISTALLOPRATICA EVOLUTIVA INTEGRATA – 1° LIVELLO
DESCRIPTION:IL CORSO SI SVOLGE IN PRESENZA  IN VIA F. BETTI\, 6 S. LAZZARO DI SAVENA (BO) E CONTEMPORANEAMENTE IN DIRETTA ONLINE SU PIATTAFORMA ZOOM \ndocente: Mara Ricci \nContributo richiesto per il corso in aula € 189 comprensivi di dispensa di studio rilegata\, registrazione dell’intero corso e attestato di frequenza cartaceo \nContributo richiesto per il corso in diretta online su piattaforma ZOOM € 168\, comprensivi di dispensa di studio\, registrazione dell’intero corso e attestato di frequenza inviati online \nProgramma del corso teorico-esperienziale \nPartendo dalle nozioni base chimico-fisico dei Cristalli\, arriveremo alla loro spiegazione energetica\, nell’interpretazione della forma materiale\, come risorsa del potenziale vibrazionale cristallino. Sarà un corso teorico\, ma dove tante meditazioni mirate permetteranno di entrare in profonda connessione con questi compagni di viaggio\, attingendo da essi\, un insegnamento unico ed antico tanto quanto la formazione di essi nel grembo della Madre Terra. \n-Litogenesi: cenni chimico fisco dei cristalli \n-Pulizia dei cristalli \n-Chakra e cristalli \n-Cristalli Maestro: introduzione \n-Il radicamento e la connessione al cielo \n-Blocchi energetici: riconoscerli ed intervenire attraverso i cristalli \n-Infusione cristallina a coppie: pratica \n-La scelta intuitiva di un cristallo\, mettersi in ascolto del suo messaggio -Elisir con i cristalli attraverso l’informazione vibrazionale -Dimostrazione di seduta cristallina \n-Meditazioni guidate per entrare in connessione con il Mondo Cristallino
URL:https://accademiaolisticalberodellavita.it/event/cristallopratica-evolutiva-integrata-1-livello/
END:VEVENT
END:VCALENDAR