BEGIN:VCALENDAR
VERSION:2.0
PRODID:-//Accademia Olistica Albero della Vita - ECPv6.15.19//NONSGML v1.0//EN
CALSCALE:GREGORIAN
METHOD:PUBLISH
X-WR-CALNAME:Accademia Olistica Albero della Vita
X-ORIGINAL-URL:https://accademiaolisticalberodellavita.it
X-WR-CALDESC:Eventi per Accademia Olistica Albero della Vita
REFRESH-INTERVAL;VALUE=DURATION:PT1H
X-Robots-Tag:noindex
X-PUBLISHED-TTL:PT1H
BEGIN:VTIMEZONE
TZID:UTC
BEGIN:STANDARD
TZOFFSETFROM:+0000
TZOFFSETTO:+0000
TZNAME:UTC
DTSTART:20230101T000000
END:STANDARD
END:VTIMEZONE
BEGIN:VEVENT
DTSTART;TZID=UTC:20240106T100000
DTEND;TZID=UTC:20240107T190000
DTSTAMP:20260421T211418
CREATED:20231202T161854Z
LAST-MODIFIED:20231202T161854Z
UID:6475-1704535200-1704654000@accademiaolisticalberodellavita.it
SUMMARY:I SETTE SPECCHI ESSENI + L’OTTAVO SPECCHIO: COMPRENDERE NOI STESSI E LA REALTA’ CHE CI CIRCONDA
DESCRIPTION:IL CORSO SI SVOLGE IN PRESENZA A S. LAZZARO DI SAVENA (BO) IN VIA F. BETTI\, 6 E CONTEMPORANEAMENTE IN DIRETTA ONLINE SU PIATTAFORMA ZOOM \ndocente: Maria Cristina Sapori \nContributo richiesto per il corso in presenza € 189\, comprensivi di dispensa di studio rilegata\, registrazione dell’intero corso e attestato di frequenza\nContributo richiesto € 168\, comprensivi di dispensa di studio\, attestato di frequenza e registrazione dell’intero corso inviati online \nProgramma del corso teorico-esperienziale\nLa realtà che ci circonda è lo specchio di ciò che manteniamo dentro di noi\nL’inconscio e i campi morfici\nChi erano gli Esseni: la tradizione Essena dal Patriarca Enoch a oggi\nStudio dei Sette Specchi secondo la Tradizione Essena\nEssere consapevoli del perchè attiriamo nella nostra vita persone e situazioni\nComprendere come spesso costruiamo visioni distorte di ciò che ci accade\nEsercizi per iniziare a trasformare le nostre credenze e i nostri condizionamenti limitanti attraverso la comprensione dei Sette Specchi Esseni\nOttavo Specchio: come\, quando e perché si manifesta?\nEsercizi per comprendere come uscire dall’Ottavo Specchio-deformante la realtà che ci circonda
URL:https://accademiaolisticalberodellavita.it/event/i-sette-specchi-esseni-lottavo-specchio-comprendere-noi-stessi-e-la-realta-che-ci-circonda/
ATTACH;FMTTYPE=image/jpeg:https://accademiaolisticalberodellavita.it/wp-content/uploads/2021/08/condizionamenti.jpg
END:VEVENT
BEGIN:VEVENT
DTSTART;TZID=UTC:20240106T143000
DTEND;TZID=UTC:20240106T183000
DTSTAMP:20260421T211418
CREATED:20231202T164533Z
LAST-MODIFIED:20231202T164533Z
UID:6507-1704551400-1704565800@accademiaolisticalberodellavita.it
SUMMARY:POMERIGGIO DEDICATO AL TIROCINIO GRATUITO IN AULA CON LA GUIDA DEGLI INSEGNANTI
DESCRIPTION:Il tirocinio gratuito si svolge in via Betti\, 6 S. Lazzaro di Savena (BO)\nProgramma del pomeriggio \nScambio dei trattamenti tra allievi del corso e allievi esterni dove si praticheranno tutte le tecniche imparare durante i week end di formazione\ndalle 14\,30 ALLE 18\,30\nContributo richiesto per le spese vive € 12
URL:https://accademiaolisticalberodellavita.it/event/pomeriggio-dedicato-al-tirocinio-gratuito-in-aula-con-la-guida-degli-insegnanti/
ATTACH;FMTTYPE=image/jpeg:https://accademiaolisticalberodellavita.it/wp-content/uploads/2023/03/Massaggio-Olistico-scaled-e1691866048226.jpeg
END:VEVENT
BEGIN:VEVENT
DTSTART;TZID=UTC:20240111T203000
DTEND;TZID=UTC:20240111T220000
DTSTAMP:20260421T211418
CREATED:20240224T114727Z
LAST-MODIFIED:20240224T114727Z
UID:6841-1705005000-1705010400@accademiaolisticalberodellavita.it
SUMMARY: GRUPPO DI STUDIO E SUPERVISIONE GRATUITO
DESCRIPTION:APERTO A TUTTI COLORO CHE HANNO FREQUENTATO IL CORSO DI RIFLESSOLOGIA PLANTARE OLIST. INTEGR. 2° MODULO\ndocente: Sonja Demuru \ndalle 20\,30 alle 21\,45 su PIATTAFORMA ZOOM
URL:https://accademiaolisticalberodellavita.it/event/gruppo-di-studio-e-supervisione-gratuito/
END:VEVENT
BEGIN:VEVENT
DTSTART;TZID=UTC:20240113T100000
DTEND;TZID=UTC:20240114T190000
DTSTAMP:20260421T211418
CREATED:20231202T162157Z
LAST-MODIFIED:20231202T162157Z
UID:6479-1705140000-1705258800@accademiaolisticalberodellavita.it
SUMMARY:RIFLESSOLOGIA PLANTARE OLISTICA INTEGRATA – 3° Modulo
DESCRIPTION:IL CORSO SI SVOLGE SOLO IN PRESENZA IN VIA PONTEBUCO 7/A S. LAZZARO DI SAVENA (BO)\ndocente: Sonja Demuru\nContributo richiesto per il corso in aula € 189 comprensivi di dispensa di studio rilegata\, registrazione dell’intero corso e attestato di frequenza cartaceo \nProgramma del corso teorico-pratico\nMOVIMENTO METALLO: COPPIA POLMONE/INTESTINO CRASSO\n-Il nutrimento del Cielo: Sistema Respiratorio\n-Alimentazione\, Essenze Floreali e Oli Essenziali\n-Gabbia toracica e respiro delle ossa\n-Protocollo Sistema Respiratorio\nSISTEMA ENDOCRINO\n-Le porte fra la Terra e il Cielo\n-Alimentazione\, Essenze Floreali e Oli Essenziali\n-Protocollo Sistema Endocrino\nRELAZIONI TRA I CINQUE MOVIMENTI\n-Ciclo di Generazione e Ciclo di Controllo\nSIGNIFICATO IN PSICOSOMATICA DELLE DITA DEI PIEDI CONSIGLI PER SQUILIBRI VARI
URL:https://accademiaolisticalberodellavita.it/event/riflessologia-plantare-olistica-integrata-3-modulo-2/
END:VEVENT
BEGIN:VEVENT
DTSTART;TZID=UTC:20240118T203000
DTEND;TZID=UTC:20240118T220000
DTSTAMP:20260421T211418
CREATED:20240224T114830Z
LAST-MODIFIED:20240224T114830Z
UID:6843-1705609800-1705615200@accademiaolisticalberodellavita.it
SUMMARY:GRUPPO DI STUDIO E SUPERVISIONE GRATUITO
DESCRIPTION:APERTO A TUTTI COLORO CHE HANNO FREQUENTATO IL CORSO SUI FIORI DI BACH Docente: Maria Cristina Sapori\ndalle 20\,30 alle 21\,45 su PIATTAFORMA ZOOM
URL:https://accademiaolisticalberodellavita.it/event/gruppo-di-studio-e-supervisione-gratuito-2/
END:VEVENT
BEGIN:VEVENT
DTSTART;TZID=UTC:20240121T093000
DTEND;TZID=UTC:20240121T133000
DTSTAMP:20260421T211418
CREATED:20231202T162619Z
LAST-MODIFIED:20231202T162619Z
UID:6483-1705829400-1705843800@accademiaolisticalberodellavita.it
SUMMARY:SESSIONE D’ESAME PER IL TITOLO DI “OPERATORE OLISTICO A INDIRIZZO VIBRAZIONALE INTEGRATO”
DESCRIPTION:L’ESAME SI SVOLGE IN VIA F. BETTI\, 6 IDICE – S. LAZZARO DI SAVENA (BO)\ndalle 9\,30 alle 13
URL:https://accademiaolisticalberodellavita.it/event/sessione-desame-per-il-titolo-di-operatore-olistico-a-indirizzo-vibrazionale-integrato/
ATTACH;FMTTYPE=image/jpeg:https://accademiaolisticalberodellavita.it/wp-content/uploads/2023/08/esame.jpg
END:VEVENT
BEGIN:VEVENT
DTSTART;TZID=UTC:20240125T203000
DTEND;TZID=UTC:20240125T220000
DTSTAMP:20260421T211418
CREATED:20240224T114929Z
LAST-MODIFIED:20240224T114929Z
UID:6845-1706214600-1706220000@accademiaolisticalberodellavita.it
SUMMARY:GRUPPO DI STUDIO E SUPERVISIONE GRATUITO
DESCRIPTION: APERTO A TUTTI COLORO CHE HANNO FREQUENTATO IL CORSO DI TECNICA METAMORFICA – BASE\ndocente: Sonja Demuru \ndalle 20\,30 alle 21\,45 su PIATTAFORMA ZOOM
URL:https://accademiaolisticalberodellavita.it/event/gruppo-di-studio-e-supervisione-gratuito-3/
END:VEVENT
BEGIN:VEVENT
DTSTART;TZID=UTC:20240127T100000
DTEND;TZID=UTC:20240128T190000
DTSTAMP:20260421T211418
CREATED:20231202T162026Z
LAST-MODIFIED:20231231T173329Z
UID:6477-1706349600-1706468400@accademiaolisticalberodellavita.it
SUMMARY:NUMEROLOGIA EVOLUTIVA INTEGRATA 3° LIVELLO
DESCRIPTION:NUMEROLOGIA EVOLUTIVA INTEGRATA 3° LIVELLO \nIL CORSO SI SVOLGE IN DIRETTA ONLINE SU PIATTAFORMA ZOOM\ndocente: Maria Cristina Sapori\nContributo richiesto € 168\, comprensivi di dispensa di studio\, registrazione dell’intero corso e attestato di frequenza inviati online\nProgramma del corso teorico-pratico\nApprofondimento sulla Carta di Numerologia Evolutiva IntegrataTM e sulle Comparazioni di Coppia\nStudio delle prime 12 lettere dell’Alfabeto Ebraico e comprensione del loro valore energetico e delle loro corrispondenze numeriche\nNUMEROLOGIA EVOLUTIVA INTEGRATA TM: corrispondenze tra Numeri\, Lettere Ebraiche\, Essenze Floreali e Cristalli\nTecniche di Riequilibrio Energetico attraverso l’utilizzo di Numeri: Meditazioni e Visualizzazioni guidate\, utilizzo dei Numeri per la Creazione di Mandala per l’armonizzazione degli ambienti in cui viviamo\nCenni sulle Sequenze Numeriche di Grigorji Grabovoj\nUtilizzo delle Sequenze Numeriche di Fibonacci e di Zhi Gang Shah per ritrovare armonia e centratura Meditazione guidata per trovare la propria Sequenza Numerica da utilizzare per riattivare i propri talenti e le proprie potenzialità interiori. Domande e studio di casi particolari
URL:https://accademiaolisticalberodellavita.it/event/numerologia-evolutiva-integrata-3-livello-2/
END:VEVENT
BEGIN:VEVENT
DTSTART;TZID=UTC:20240127T100000
DTEND;TZID=UTC:20240128T190000
DTSTAMP:20260421T211418
CREATED:20231202T162743Z
LAST-MODIFIED:20231202T162743Z
UID:6485-1706349600-1706468400@accademiaolisticalberodellavita.it
SUMMARY:CAMPANE TIBETANE E MASSAGGIO SONORO – 2° LIVELLO
DESCRIPTION:IL CORSO SI SVOLGE SOLO IN PRESENZA IN VIA PONTEBUCO\, 7/a S. LAZZARO DI SAVENA (BO)\ndocente: Mara Ricci\nContributo richiesto € 189\, comprensivi di dispensa di studio rilegata e attestato di frequenza cartaceo \nProgramma del corso teorico-esperienziale\nAccoglienza\, confronto\, domande ed esperienze avute con il suono\nLa connessione alle campane.\nInizio della spiegazione del massaggio sonoro\, riequilibrio degli emisferi\nEnergia elettrica\, magnetica e polarizzata. Prove pratiche\nSpiegazione dei 7 principali centri energetici\, i chakra\nCome trattarli attraverso il suono\nDimostrazione pratica del Massaggio Sonoro supino\nApprofondimento e domande sui chakra e sul Massaggio Sonoro supino e prove pratiche\nCenni teorici sul corpo vibrazionale e dimostrazione di integrazione del Massaggio Olistico e Vibrazionale Il sistema dei 7 chakra eterici\nProve pratiche\nPratica del massaggio sonoro supino con l’integrazione aurica
URL:https://accademiaolisticalberodellavita.it/event/campane-tibetane-e-massaggio-sonoro-2-livello-2/
END:VEVENT
END:VCALENDAR