BEGIN:VCALENDAR
VERSION:2.0
PRODID:-//Accademia Olistica Albero della Vita - ECPv6.15.19//NONSGML v1.0//EN
CALSCALE:GREGORIAN
METHOD:PUBLISH
X-ORIGINAL-URL:https://accademiaolisticalberodellavita.it
X-WR-CALDESC:Eventi per Accademia Olistica Albero della Vita
REFRESH-INTERVAL;VALUE=DURATION:PT1H
X-Robots-Tag:noindex
X-PUBLISHED-TTL:PT1H
BEGIN:VTIMEZONE
TZID:UTC
BEGIN:STANDARD
TZOFFSETFROM:+0000
TZOFFSETTO:+0000
TZNAME:UTC
DTSTART:20230101T000000
END:STANDARD
END:VTIMEZONE
BEGIN:VEVENT
DTSTART;TZID=UTC:20240201T203000
DTEND;TZID=UTC:20240201T220000
DTSTAMP:20260421T193008
CREATED:20240224T120222Z
LAST-MODIFIED:20240224T120222Z
UID:6871-1706819400-1706824800@accademiaolisticalberodellavita.it
SUMMARY:GRUPPO DI STUDIO E SUPERVISIONE GRATUITO
DESCRIPTION: APERTO A TUTTI COLORO CHE HANNO FREQUENTATO IL CORSO DI RIFLESSOLOGIA PLANTARE OLIST. INTEGR. 3° MODULO\ndocente: Sonja Demuru \ndalle 20\,30 alle 21\,45 su PIATTAFORMA ZOOM
URL:https://accademiaolisticalberodellavita.it/event/gruppo-di-studio-e-supervisione-gratuito-4/
END:VEVENT
BEGIN:VEVENT
DTSTART;TZID=UTC:20240208T203000
DTEND;TZID=UTC:20240208T220000
DTSTAMP:20260421T193008
CREATED:20240224T115113Z
LAST-MODIFIED:20240224T115113Z
UID:6849-1707424200-1707429600@accademiaolisticalberodellavita.it
SUMMARY:ESAME FINALE PER IL TITOLO DI “OPERATORE IN RIFLESSOLOGIA PLANTARE OLISTICA INTEGRATA”
DESCRIPTION:docente: Sonja Demuru\ni dettagli verranno comunicati direttamente nel gruppo whatsapp di Riflessologia Plantare Olistica Integrata
URL:https://accademiaolisticalberodellavita.it/event/esame-finale-per-il-titolo-di-operatore-in-riflessologia-plantare-olistica-integrata/
END:VEVENT
BEGIN:VEVENT
DTSTART;TZID=UTC:20240210T090000
DTEND;TZID=UTC:20240211T190000
DTSTAMP:20260421T193008
CREATED:20231202T163052Z
LAST-MODIFIED:20231202T163052Z
UID:6489-1707555600-1707678000@accademiaolisticalberodellavita.it
SUMMARY:TECNICA METAMORFICA – CORSO DI APPROFONDIMENTO
DESCRIPTION:IL CORSO SI SVOLGE IN VIA F. BETTI\, 6 S. LAZZARO DI SAVENA (BO) E CONTEMPORANEAMENTE IN DIRETTA ONLINE SU PIATTAFORMA ZOOM\ndocente: Sonja Demuru\nContributo richiesto per il corso in aula € 189 comprensivi di dispensa di studio rilegata\, registrazione dell’intero corso e attestato di frequenza cartaceo \nContributo richiesto per il corso in diretta online su piattaforma ZOOM € 168\, comprensivi di dispensa di studio\, registrazione dell’intero corso e attestato di frequenza inviati online\nProgramma teorico – pratico\nIn questo modulo occorre avere un diapason a punta arrotondata a 128 HZ \nRelazione fra squilibri fisici e i piani mentale ed emotivo\nIntegrazione di Essenze Floreali e Oli Essenziali per riarmonizzare vari disequilibri del piede Impacchi con i Fiori di Bach nei punti riflessi della colonna vertebrale.\nTrattamento con il Diapason a 128 Hz nel riflesso plantare e nel riflesso delle mani Trattamento con il Diapason nel riflesso della colonna vertebrale.\nMassaggio finale con le miscele “Principio del Padre” e “Principio della Madre”
URL:https://accademiaolisticalberodellavita.it/event/tecnica-metamorfica-corso-di-approfondimento/
END:VEVENT
BEGIN:VEVENT
DTSTART;TZID=UTC:20240215T203000
DTEND;TZID=UTC:20240215T220000
DTSTAMP:20260421T193008
CREATED:20240224T115205Z
LAST-MODIFIED:20240224T115205Z
UID:6853-1708029000-1708034400@accademiaolisticalberodellavita.it
SUMMARY:GRUPPO DI STUDIO E SUPERVISONE GRATUITO
DESCRIPTION:APERTO A TUTTI COLORO CHE HANNO FATTO IL CORSO DI TAROLOGIA 2° LIVELLO docente: Annalisa Ronchi\ndalle 20\,30 alle 21\,45 su PIATTAFORMA ZOOM
URL:https://accademiaolisticalberodellavita.it/event/gruppo-di-studio-e-supervisone-gratuito/
END:VEVENT
BEGIN:VEVENT
DTSTART;TZID=UTC:20240217T100000
DTEND;TZID=UTC:20240218T190000
DTSTAMP:20260421T193008
CREATED:20231202T163224Z
LAST-MODIFIED:20240223T225333Z
UID:6491-1708164000-1708282800@accademiaolisticalberodellavita.it
SUMMARY:NUMEROLOGIA EVOLUTIVA INTEGRATA 1° LIVELLO
DESCRIPTION:  \nIL CORSO SI SVOLGE IN DIRETTA ONLINE SU PIATTAFORMA ZOOM\ndocente: Maria Cristina Sapori\nContributo richiesto € 168\, comprensivi di dispensa di studio\, registrazione dell’intero corso e attestato di frequenza inviati online\nProgramma del corso teorico-pratico\nNumerologia Evolutiva IntegrataTM: scopri chi sei attraverso lo studio dei tuoi Numeri di Nascita: nome e cognome (numeri collegati alle lettere)\, data\, città di nascita\, numeri ricorrenti nella tua vita. Ognuno di noi corrisponde a Numeri che contengono i segreti della sua personalità e rivelano qual è il suo Progetto di vita\nCome ricavare il proprio Numero del Destino\, il Numero dell’Espressione\, il Numero della Mission\nCome trovare i propri Numeri di Personalità e Interiorità\nCome fare la propria Carta di Numerologia Evolutiva IntegrataTM: simbologia esoterica dei Numeri e valore delle lettere per comprendere predisposizioni\, attitudini e talenti.\nComparazione delle analisi numerologiche: affinità di coppia\, rapporti d’amicizia\, relazioni in ambito lavorativo\nNumeri Karmici: quali sono e che significato hanno nella nostra vita\nNumeri Ombra: come si trovano e cosa ci mostrano\nAnno Personale: comprendere che energia e potenzialità ci riserva l’anno in corso\nDate importanti: scegliere le date più adatte per iniziare attività e realizzare progetti\nCenni sui Numeri doppi\, tripli e quadrupli: significato e simbologia\n-Domande e valutazione dei Numeri di Nascita di tutti i partecipanti al corso e studio di casi particolari
URL:https://accademiaolisticalberodellavita.it/event/numerologia-evolutiva-integrata-1-livello-2/
END:VEVENT
BEGIN:VEVENT
DTSTART;TZID=UTC:20240222T173000
DTEND;TZID=UTC:20240222T220000
DTSTAMP:20260421T193008
CREATED:20240224T115312Z
LAST-MODIFIED:20240224T115312Z
UID:6856-1708623000-1708639200@accademiaolisticalberodellavita.it
SUMMARY:GRUPPO DI STUDIO E SUPERVISIONE GRATUITO
DESCRIPTION: APERTO A TUTTI COLORO CHE HANNO FATTO IL CORSO SUI 7 SPECCHI ESSENI + L’OTTAVO SPECCHIO\ndocente: Maria Cristina Sapori \ndalle 20\,30 alle 21\,45 su PIATTAFORMA ZOOM
URL:https://accademiaolisticalberodellavita.it/event/gruppo-di-studio-e-supervisione-gratuito-5/
END:VEVENT
BEGIN:VEVENT
DTSTART;TZID=UTC:20240224T100000
DTEND;TZID=UTC:20240225T190000
DTSTAMP:20260421T193008
CREATED:20231202T163601Z
LAST-MODIFIED:20231202T163601Z
UID:6495-1708768800-1708887600@accademiaolisticalberodellavita.it
SUMMARY:TAROLOGIA EVOLUTIVA – 3° LIVELLO
DESCRIPTION:  \nIL CORSO SI SVOLGE IN DIRETTA ONLINE SU PIATTAFORMA ZOOM\ndocente: Annalisa Ronchi\nContributo richiesto € 168\, comprensivi di dispensa di studio\, registrazione dell’intero corso e attestato di frequenza inviati online\nProgramma teorico-pratico\nI 56 Arcani Minori\nMondo terrestre\n10 carte numerali + 4 Onori = 14 per ogni seme\nFila terrestre Arcani Maggiori Arcani Minori (2 volte il mondo terrestre)\nIL gioco del mondo (per vedere se la personalità è in equilibrio)\nI 5 elementi/4 piani\nGli onori\nGli Assi\nI Numerali\nDensità e polarità\nA cosa serve il numero (compiti)
URL:https://accademiaolisticalberodellavita.it/event/tarologia-evolutiva-3-livello/
END:VEVENT
BEGIN:VEVENT
DTSTART;TZID=UTC:20240224T100000
DTEND;TZID=UTC:20240225T190000
DTSTAMP:20260421T193008
CREATED:20231202T163852Z
LAST-MODIFIED:20231202T163852Z
UID:6500-1708768800-1708887600@accademiaolisticalberodellavita.it
SUMMARY:USUI RYOHO - TECNICHE ORIGINALI REIKI DI MIKAO USUI Integrazione e approfondimento
DESCRIPTION:IL CORSO E’ APERTO SOLO A CHI HA FREQUENTATO ALMENO IL 1° LIVELLO DI REIKI IL CORSO SI SVOLGE IN VIA OLMETOLA\, 42 BOLOGNA \ndocente: Master Reiki Jolanda Murero \nContributo richiesto € 189\, comprensivi di dispensa di studio\, registrazione dell’intero corso e attestato di frequenza inviati online\nProgramma del corso teorico-esperienziale\nI Simboli Reiki \nI tre pilastri del Reiki di Usui: Gassho Meiso\, Reji-Ho\, Chiryo I principi del Reiki (apprendimento)\nGassho Meiso: la meditazione Reiki \n\n\n\n\n\n\nReji-Ho: centratura per dirigere lo spirito\nByosen: scanning\, tecnica di rilevazione energetica\nKenyoku: purificarsi e scaricare le energie disarmoniche\nObarodo Mizu: caricare l’acqua con il Reiki\nSouhou Reiki: contatto Reiki\nShourei Shokubutsu: comunicare alle piante con il Reiki\nKoki-Ho: trasmettere Reiki con il respiro\nReiki Undo: tecnica di movimento Reiki\nSei Heki Chiryo: tecnica per il trattamento delle abitudini\nHesso Chiryo: tecnica di riequilibrio dall’ombelico\nShu Chu-Reiki: Reiki di gruppo concentrato\nAibu Reiki: carezza Reiki\nGyoshi-Ho: trasmissione del Reiki attraverso gli occhi\nMawashi Reiki: la corrente di energia\nJoshin Kokyu-Ho: tecnica di respirazione purificante\nHiroimono Jibutsu: ritrovare gli oggetti perduti\nJunsei Kuuhaku: purificazione dello spazio\nYakushoku Reiki: Antenna Reiki\, tecnica di concentrazione dell’energia Jacki-Kiri Joka-Ho\, trasformare l’energie disarmoniche\nGenetsu-Ho\, tecnica di Usui per riequilibrare la temperatura corporea Byogen Chiryo: trattamento dell’origine della disarmonia fisica\nEnkaku Chiryo: trattamenti a distanza\nHanshin Chiryo: tecnica di strofinamento\nHanshin Koketsu-Ho: tecnica di strofinamento dei piedi\nTanden Chiryo: trattamento del Tanden\nGedoku-Ho: tecnica disintossicante\nShian: Meditazione Tantrica attraverso Choku-Rei\nIniziazione Reiju
URL:https://accademiaolisticalberodellavita.it/event/usui-ryoho-tecniche-originali-reiki-di-mikao-usui-integrazione-e-approfondimento/
END:VEVENT
BEGIN:VEVENT
DTSTART;TZID=UTC:20240229T203000
DTEND;TZID=UTC:20240229T220000
DTSTAMP:20260421T193008
CREATED:20240224T115408Z
LAST-MODIFIED:20240224T115408Z
UID:6859-1709238600-1709244000@accademiaolisticalberodellavita.it
SUMMARY:GRUPPO DI STUDIO E SUPERVISIONE GRATUITO
DESCRIPTION:APERTO A TUTTI COLORO CHE HANNO FATTO Il CORSO DI RADIESTESIA INTEGRATA 2° LIVELLO\ndocente: Lally Murero \ndalle 20\,30 alle 21\,45 su PIATTAFORMA ZOOM
URL:https://accademiaolisticalberodellavita.it/event/gruppo-di-studio-e-supervisione-gratuito-6/
END:VEVENT
END:VCALENDAR