BEGIN:VCALENDAR
VERSION:2.0
PRODID:-//Accademia Olistica Albero della Vita - ECPv6.15.19//NONSGML v1.0//EN
CALSCALE:GREGORIAN
METHOD:PUBLISH
X-ORIGINAL-URL:https://accademiaolisticalberodellavita.it
X-WR-CALDESC:Eventi per Accademia Olistica Albero della Vita
REFRESH-INTERVAL;VALUE=DURATION:PT1H
X-Robots-Tag:noindex
X-PUBLISHED-TTL:PT1H
BEGIN:VTIMEZONE
TZID:UTC
BEGIN:STANDARD
TZOFFSETFROM:+0000
TZOFFSETTO:+0000
TZNAME:UTC
DTSTART:20230101T000000
END:STANDARD
END:VTIMEZONE
BEGIN:VEVENT
DTSTART;TZID=UTC:20240302T100000
DTEND;TZID=UTC:20240303T190000
DTSTAMP:20260421T174258
CREATED:20231202T164032Z
LAST-MODIFIED:20231202T164032Z
UID:6502-1709373600-1709492400@accademiaolisticalberodellavita.it
SUMMARY:RUNE ENERGETICHE – POTENTI CATALIZZATORI D’ENERGIA NEI TRATTAMENTI VIBRAZIONALI - 1° LIVELLO
DESCRIPTION:IL CORSO SI SVOLGE SOLO IN PRESENZA IN VIA OLMETOLA\, 42\nBOLOGNA E CONTEMPORANEAMENTE IN DIRETTA ONLINE SU \nPIATTAFORMA ZOOM\ndocente: Master Reiki Iolanda Murero\nContributo richiesto per il corso in aula € 189 comprensivi di dispensa di studio rilegata\, registrazione dell’intero corso e attestato di frequenza cartaceo\nProgramma corso teorico-pratico\n-Le Antiche Origini\n-Cosa sono le Rune\n-Valori Runici\n-Consapevolezza\n-Furthark Antico\n-I tre Aettir\, le 24 Rune\n-Elementi costitutivi e analisi grafica dei glifi\n-Archetipi Runici\n-Rune Reversibili\n-Entrare in connessione con la loro energia\n-Runa d’Appartenenza\n-Protocollo per la connessione con le Rune\n-Meditazione con la propria Runa d’Appartenenza\n-Runa Evolutiva\n-Protocollo per tracciarla\, pirografarla e attivarla\n-Invocazione Runica\n-Percepire e riconoscere l’energia/vibrazione\n-Ruota Runica\n-Protocollo per realizzare il proprio Set Runico e attivarlo\n-Protocollo di Protezione\n-Protocollo per le tracciature energetiche\n-Protocolli per l’auto trattamento \n\n\n\n\n\n\n-1° Aettir: Fehu\nUruz\nThurisaz\nAnsuz\nRaidho\nKenaz\nGebo\nWunjo\n-Per ogni Runa: -Simbolismo -Energia \n-Stato evolutivo\n-Postura energetica\n-Mudra Runico\n-Meditazione Runica e Mantra Runico
URL:https://accademiaolisticalberodellavita.it/event/rune-energetiche-potenti-catalizzatori-denergia-nei-trattamenti-vibrazionali-1-livello/
END:VEVENT
BEGIN:VEVENT
DTSTART;TZID=UTC:20240302T100000
DTEND;TZID=UTC:20240303T190000
DTSTAMP:20260421T174258
CREATED:20240224T072646Z
LAST-MODIFIED:20240224T072646Z
UID:6829-1709373600-1709492400@accademiaolisticalberodellavita.it
SUMMARY:CHAKRA REBALANCING 1° LIVELLO
DESCRIPTION:IL CORSO SI SVOLGE A S. LAZZARO DI SAVENA (BO) IN VIA F. BETTI\, 6 E CONTEMPORANEAMENTE IN DIRETTA ONLINE SU PIATTAFORMA ZOOM\ndocente: Maria Cristina Sapori\nContributo richiesto per il corso in presenza € 189\, comprensivi di dispensa di studio rilegata\, registrazione dell’intero corso e attestato di frequenza \nContributo richiesto € 168\, comprensivi di dispensa di studio\, attestato di frequenza e\nregistrazione dell’intero corso inviati online\nProgramma del corso teorico-esperienziale\nI 7 Chakra principali: capire come funzionano e come influiscono sul nostro corpo e sulle nostre emozioni. Riconoscere quali sono i loro segnali di squilibrio e imparare ad armonizzarli \nAttivazione dei Chakra inferiori: Esercizi e pratiche di riequilibrio energetico per aumentare energia e vitalità\nAttivazione del Chakra del cuore: ricevere e dare amore\, attraverso il riconoscimento della propria unicità Attivazione dei Chakra superiori: meditazioni creative\, mantra di purificazione e protezione. \nLa preghiera come ponte sacro tra noi e le nostre Guide Celesti\nDurante ogni incontro impareremo come riequilibrare ogni centro d’energia attraverso l’utilizzo di: Tecniche di respirazione consapevole\nCanto di mantra sacri di purificazione e protezione\nMeditazione creativa guidata\nCreazione di Mandala di Luce
URL:https://accademiaolisticalberodellavita.it/event/chakra-rebalancing-1-livello-3/
END:VEVENT
BEGIN:VEVENT
DTSTART;TZID=UTC:20240307T083000
DTEND;TZID=UTC:20240307T230000
DTSTAMP:20260421T174258
CREATED:20240224T115515Z
LAST-MODIFIED:20240224T115515Z
UID:6862-1709800200-1709852400@accademiaolisticalberodellavita.it
SUMMARY:GRUPPO DI STUDIO E SUPERVISIONE GRATUITO
DESCRIPTION:APERTO A TUTTI COLORO CHE HANNO FATTO Il CORSO DI NUMEROLOGIA EVOLUTIVA INTEGRATA 3° LIVELLO\nDocente: Maria Cristina Sapori \ndalle 20\,30 alle 21\,45 su PIATTAFORMA ZOOM
URL:https://accademiaolisticalberodellavita.it/event/gruppo-di-studio-e-supervisione-gratuito-7/
END:VEVENT
BEGIN:VEVENT
DTSTART;TZID=UTC:20240309T143000
DTEND;TZID=UTC:20240309T183000
DTSTAMP:20260421T174258
CREATED:20240224T073256Z
LAST-MODIFIED:20240224T073303Z
UID:6832-1709994600-1710009000@accademiaolisticalberodellavita.it
SUMMARY:POMERIGGIO DEDICATO AL TIROCINIO GRATUITO IN AULA CON LA GUIDA DEGLI INSEGNANTI
DESCRIPTION:Il tirocinio gratuito si svolge in via Pontebuco\, 6 S. Lazzaro di Savena (BO)\nProgramma del pomeriggio \nScambio dei trattamenti tra allievi del corso e allievi esterni dove si praticheranno tutte le tecniche imparare durante i week end di formazione\ndalle 14\,30 ALLE 18\,30\nContributo richiesto per le spese vive € 12
URL:https://accademiaolisticalberodellavita.it/event/pomeriggio-dedicato-al-tirocinio-gratuito-in-aula-con-la-guida-degli-insegnanti-5/
END:VEVENT
BEGIN:VEVENT
DTSTART;TZID=UTC:20240314T093000
DTEND;TZID=UTC:20240314T220000
DTSTAMP:20260421T174258
CREATED:20240224T115642Z
LAST-MODIFIED:20240224T115642Z
UID:6865-1710408600-1710453600@accademiaolisticalberodellavita.it
SUMMARY:GRUPPO DI STUDIO E SUPERVISIONE GRATUITO
DESCRIPTION:APERTO A TUTTI COLORO CHE HANNO FATTO IL CORSO DI TECNICHE DI PROTEZIONE ENERGETICA\ndocente: Lally Murero \ndalle 20\,30 alle 21\,45 su PIATTAFORMA ZOOM
URL:https://accademiaolisticalberodellavita.it/event/gruppo-di-studio-e-supervisione-gratuito-8/
END:VEVENT
BEGIN:VEVENT
DTSTART;TZID=UTC:20240316T100000
DTEND;TZID=UTC:20240317T190000
DTSTAMP:20260421T174258
CREATED:20231202T164814Z
LAST-MODIFIED:20231202T164814Z
UID:6511-1710583200-1710702000@accademiaolisticalberodellavita.it
SUMMARY:CAMPANE TIBETANE E MASSAGGIO SONORO – 3° LIVELLO
DESCRIPTION:IL CORSO SI SVOLGE SOLO IN PRESENZA IN VIA F. BETTI\, 6 S. LAZZARO DI SAVENA (BO) docente: Mara Ricci\nContributo richiesto € 189\, comprensivi di dispensa di studio rilegata e attestato di frequenza cartaceo \nProgramma del corso teorico-esperienziale\nNel terzo week end si approfondiranno le tecniche di Massaggio Sonoro Armonico sul corpo fisico e su quello aurico.\nVerranno inoltre presentati altri strumenti armonici\, come il Diapason\, la campana tubolare per l’armonizzatore dei chakra e saranno dati suggerimenti su come crearsi una propria tecnica di armonizzazione\, utilizzando ciò di cui si dispone\, anche eventuali altri strumenti\, diversi da quelli messi a disposizione dall’insegnante. Nel dettaglio:\nAccoglienza e pratica del Massaggio Sonoro supino\nDimostrazione Massaggio Sonoro prono\nPratica Massaggio Sonoro prono e scambi\nApprofondimenti sulla pratica\, dubbi\, domande e delucidazioni\nPratica per sé e per gli altri\nI diapason e il loro utilizzo. Prove pratiche\nPratica e scambi a coppie\nAltri strumenti armonici\, breve spiegazione e carrellata e come usarli e come integrarli nel trattamento. Prove pratiche
URL:https://accademiaolisticalberodellavita.it/event/campane-tibetane-e-massaggio-sonoro-3-livello-2/
END:VEVENT
BEGIN:VEVENT
DTSTART;TZID=UTC:20240316T100000
DTEND;TZID=UTC:20240317T190000
DTSTAMP:20260421T174258
CREATED:20240223T185253Z
LAST-MODIFIED:20240224T120727Z
UID:6774-1710583200-1710702000@accademiaolisticalberodellavita.it
SUMMARY: ALIMENTAZIONE NATURALE BIO-ENERGETICA
DESCRIPTION:  \nIL CORSO RILASCIA 32 CREDITI ECP PER L’AGGIORNAMENTO PROFESSIONALE DEGLI OPERATORI ISCRITTI A TUTTI I REGISTRI PROFESSIONALI DI SIAF Italia AI SENSI LEGGE 04/2013 \nIL CORSO SI SVOLGE IN DIRETTA ONLINE SU PIATTAFORMA ZOOM  \ndocente: Maria Cristina Sapori                                                                                                    \nContributo richiesto € 168\, comprensivi di dispensa di studio\, attestato di frequenza\, \nregistrazione dell’intero corso e video professionale dei trattamenti insegnati inviati online \nProgramma del corso \n-Gruppi alimentari: carboidrati\, proteine\, grassi\, fibre: impariamo a conoscerli e scopriamo la loro qualità energetica \n– Visione energetica del cibo in modo che diventi un vero nutrimento \n-Acqua e sue funzioni \n-Zucchero\, fruttosio\, edulcoranti: capiamo la differenza \n-I condimenti: come utilizzarli per mantenere il proprio naturale benessere \n-Sale integrale e sale himalayano: come utilizzarli come alleati per il proprio benessere \n-Cottura degli alimenti: come aumentare il valore nutritivo degli alimenti ed evitare gli effetti tossici delle alte temperature \n-Le combinazioni alimentari \n-Il digiuno ed i suoi effetti nell’organismo umano \n-Allergie e intolleranze alimentari\, capiamo la differenza \n-Comprendere i vari modelli di alimentazione: igienismo\, macrobiotica\, dieta Kousmine\, dieta dissociata\, vegetariana\, vegana\, ecc. \n-Educazione al benessere: imparare a leggere le etichette e scegliere con consapevolezza \n-Cibo ed emozioni\, sviluppare la consapevolezza rispetto al proprio rapporto con il cibo \n-Come nutrirsi per mantenere il giusto speso e sentirsi in forma: programmi alimentari per i diversi stili di vita \n-Domande e risposte
URL:https://accademiaolisticalberodellavita.it/event/alimentazione-naturale-bio-energetica/
END:VEVENT
BEGIN:VEVENT
DTSTART;TZID=UTC:20240321T203000
DTEND;TZID=UTC:20240321T220000
DTSTAMP:20260421T174258
CREATED:20240224T115742Z
LAST-MODIFIED:20240224T115742Z
UID:6867-1711053000-1711058400@accademiaolisticalberodellavita.it
SUMMARY:GRUPPO DI STUDIO E SUPERVISIONE GRATUITO
DESCRIPTION:APERTO A TUTTI COLORO CHE HANNO FATTO IL CORSO DI NUMEROLOGIA EVOLUTIVA INTEGRATA 1° LIVELLO\ndocente: Maria Cristina Sapori \ndalle 20\,30 alle 21\,45 su PIATTAFORMA ZOOM
URL:https://accademiaolisticalberodellavita.it/event/gruppo-di-studio-e-supervisione-gratuito-9/
END:VEVENT
BEGIN:VEVENT
DTSTART;TZID=UTC:20240323T100000
DTEND;TZID=UTC:20240324T190000
DTSTAMP:20260421T174258
CREATED:20231202T164921Z
LAST-MODIFIED:20250910T224427Z
UID:6513-1711188000-1711306800@accademiaolisticalberodellavita.it
SUMMARY:RIFLESSOLOGIA PLANTARE SECONDO LE MAPPE CINESI 1° LIVELLO
DESCRIPTION:IL CORSO SI SVOLGE SOLO IN PRESENZA IN VIA PONTEBUCO 7/A S. LAZZARO DI SAVENA (BO) \ndocente: Sonja Demuru \nContributo richiesto per il corso in aula € 189 comprensivi di dispensa di studio rilegata\, registrazione dell’intero corso e attestato di frequenza cartaceo
URL:https://accademiaolisticalberodellavita.it/event/on-zon-su-riflessologia-plantare-secondo-le-mappe-cinesi-1-livello/
END:VEVENT
BEGIN:VEVENT
DTSTART;TZID=UTC:20240328T203000
DTEND;TZID=UTC:20240328T220000
DTSTAMP:20260421T174258
CREATED:20240224T115933Z
LAST-MODIFIED:20240224T115933Z
UID:6869-1711657800-1711663200@accademiaolisticalberodellavita.it
SUMMARY:GRUPPO DI STUDIO E SUPERVISIONE GRATUITO
DESCRIPTION:APERTO A TUTTI COLORO CHE HANNO FATTO IL CORSO DI TAROLOGIA EVOLUTIVA 3° LIVELLO\ndocente: Annalisa Ronchi \ndalle 20\,30 alle 21\,45 su PIATTAFORMA ZOOM
URL:https://accademiaolisticalberodellavita.it/event/gruppo-di-studio-e-supervisione-gratuito-10/
END:VEVENT
END:VCALENDAR