BEGIN:VCALENDAR
VERSION:2.0
PRODID:-//Accademia Olistica Albero della Vita - ECPv6.15.19//NONSGML v1.0//EN
CALSCALE:GREGORIAN
METHOD:PUBLISH
X-WR-CALNAME:Accademia Olistica Albero della Vita
X-ORIGINAL-URL:https://accademiaolisticalberodellavita.it
X-WR-CALDESC:Eventi per Accademia Olistica Albero della Vita
REFRESH-INTERVAL;VALUE=DURATION:PT1H
X-Robots-Tag:noindex
X-PUBLISHED-TTL:PT1H
BEGIN:VTIMEZONE
TZID:UTC
BEGIN:STANDARD
TZOFFSETFROM:+0000
TZOFFSETTO:+0000
TZNAME:UTC
DTSTART:20230101T000000
END:STANDARD
END:VTIMEZONE
BEGIN:VEVENT
DTSTART;TZID=UTC:20240406T100000
DTEND;TZID=UTC:20240407T190000
DTSTAMP:20260421T155506
CREATED:20231202T164300Z
LAST-MODIFIED:20240224T073523Z
UID:6504-1712397600-1712516400@accademiaolisticalberodellavita.it
SUMMARY:NUMEROLOGIA EVOLUTIVA INTEGRATA™: COME ARMONIZZARE E POTENZIARE I PROPRI NUMERI DI NASCITA ATTRAVERSO L’UTILIZZO DI: GEOMETRIE SACRE\, MANDALA\, PAROLE DI LUCE E GRIGLIE DI CRISTALLI
DESCRIPTION:NUMEROLOGIA EVOLUTIVA INTEGRATA™: COME ARMONIZZARE E POTENZIARE I PROPRI NUMERI DI NASCITA ATTRAVERSO L’UTILIZZO DI: GEOMETRIE SACRE\, MANDALA\, PAROLE DI LIUCE E GRIGLIE DI CRISTALLI \nIL CORSO SI SVOLGE IN VIA F. BETTI\, 6 S. LAZZARO DI SAVENA (BO) E CONTEMPORANEAMENTE IN DIRETTA ONLINE SU PIATTAFORMA ZOOM\ndocente: Maria Cristina Sapori\nContributo richiesto per il corso in aula € 189 comprensivi di dispensa di studio rilegata\, registrazione dell’intero corso e attestato di frequenza cartaceo \nContributo richiesto per il corso in diretta online su piattaforma ZOOM € 168\, comprensivi di dispensa Programma del corso teorico-pratico\n-Geometria Sacra: la struttura sottile del nostro Universo e del nostro sistema corpo/mente/emozioni -Studio approfondito e utilizzo pratico della Geometria Sacra in abbinamento ai nostri Numeri di Nascita e in particolare di: \n-Fiore della Vita\n-Cubo di Metratron (composto dai 5 solidi platonici) detto anche Frutto della Vita -Stella a 5 punte (Pentacolo)\n-Stella a 6 Punte (Merkaba)\n-Croce Ansata (ANK) o Croce Celtica\n-Shefa (antico Simbolo Sacro ebraico)\n-Studio approfondito e utilizzo dei Simboli Sacri con inserimento dei nostri Numeri di Nascita per armonizzarli e potenziarli\n-Costruzione e utilizzo delle Griglie Cristalline in abbinamento con la Geometria Sacra\, con studio approfondito dei 12 Cristalli abbinati ai 12 Numeri di Mission:\n-Numero 1: pirite\n-Numero 2: crisoprasio\n-Numero 3: pietra del sole\n-Numero 4: rodonite\n-Numero 5: angelite\n-Numero 6: selenite\n-Numero 7: quarzo girasole\n-Numero 8: kunzite\n-Numero 9: labradorite\n-Numero 10: quarzo fumè\n-Numero 11: moldavite\n-Numero 12: staurolite\n-Esempi pratici e studio di casi portati dagli allievi con esempi di costruzioni di Griglie Cristalline sulle Geometrie Sacre
URL:https://accademiaolisticalberodellavita.it/event/numerologia-evolutiva-integrata-come-armonizzare-e-potenziare-i-propri-numeri-di-nascita-attraverso-lutilizzo-di-geometrie-sacre-mandala-parole-di-liuce-e-griglie-di-cristalli/
END:VEVENT
BEGIN:VEVENT
DTSTART;TZID=UTC:20240413T100000
DTEND;TZID=UTC:20240414T190000
DTSTAMP:20260421T155506
CREATED:20240223T185639Z
LAST-MODIFIED:20240223T190015Z
UID:6778-1713002400-1713121200@accademiaolisticalberodellavita.it
SUMMARY: NUMEROLOGIA EVOLUTIVA INTEGRATA 2° LIVELLO
DESCRIPTION:IL CORSO SI SVOLGE IN DIRETTA ONLINE SU PIATTAFORMA ZOOM \ndocente: Maria Cristina Sapori \nContributo richiesto € 168\, comprensivi di dispensa di studio\, registrazione dell’intero corso e attestato di frequenza inviati online \nProgramma del corso teorico-pratico \nCome costruire e interpretare il proprio Quadrato di Nascita ricavato dalla propria data di nascita \nStudio degli Indicatori del Quadrato di Nascita che indicano predisposizioni\, attitudini\, talenti\, zone ombra \nIl Numero dei Talenti: come si ricava \nComprendere i cambiamenti che avvengono nella vita durante i Cicli dei 9 Anni \nSuddivisione della vita in 4 fasi evolutive: Anni di Picco (o Anni dove abbiamo un’elevata spinta propulsiva che ci permette di raggiungere traguardi o manifestare potenzialità) e Anni di Sfida (o Anni dove ricaviamo i maggiori insegnamenti della nostra Vita attraverso lo superamento dei momenti di maggior difficoltà) \nCenni sul legame fra Astrologia e Numerologia
URL:https://accademiaolisticalberodellavita.it/event/numerologia-evolutiva-integrata-2-livello-5/
END:VEVENT
BEGIN:VEVENT
DTSTART;TZID=UTC:20240413T100000
DTEND;TZID=UTC:20240414T190000
DTSTAMP:20260421T155506
CREATED:20240223T190208Z
LAST-MODIFIED:20240223T190208Z
UID:6780-1713002400-1713121200@accademiaolisticalberodellavita.it
SUMMARY:CRISTALLOPRATICA EVOLUTIVA INTEGRATA – 3° LIVELLO
DESCRIPTION:  \nIL CORSO SI SVOLGE IN VIA F. BETTI\, 6 S. LAZZARO DI SAVENA (BO)  \ndocente: Mara Ricci \nContributo richiesto per il corso in aula € 189 comprensivi di dispensa di studio rilegata\, registrazione dell’intero corso e attestato di frequenza cartaceo \nProgramma del corso teorico-esperienziale \nI Cristalli Maestro: approfondimento sui Maestri studiati nel 1° e 2° livello attraverso Meditazioni e introduzione di 4 nuovi Cristalli Maestro \nColloquio con il cliente prima di un trattamento di Cristallopratica Intuitiva Integrata \nIntroduzione alle tecniche Avanzate\, i cristalli del corpo superiore  \nTrattamento avanzato Calciti-Selenite  \nDimostrazione pratica \nLa geometria sacra del reticolo cristallino e mandala cristallini \nProve e dimostrazioni pratiche complete \nDubbi\, domande e approfondimenti richiesti dagli allievi
URL:https://accademiaolisticalberodellavita.it/event/cristallopratica-evolutiva-integrata-3-livello-2/
END:VEVENT
BEGIN:VEVENT
DTSTART;TZID=UTC:20240420T100000
DTEND;TZID=UTC:20240421T190000
DTSTAMP:20260421T155506
CREATED:20240223T190349Z
LAST-MODIFIED:20250910T210249Z
UID:6782-1713607200-1713726000@accademiaolisticalberodellavita.it
SUMMARY:RIFLESSOLOGIA PLANTARE SECONDO LE MAPPE CINESI 2° LIVELLO
DESCRIPTION:  \n2° LIVELLO \nIL CORSO SI SVOLGE SOLO IN PRESENZA IN VIA PONTEBUCO 7/A S. LAZZARO DI SAVENA (BO) \ndocente: Sonja Demuru \nContributo richiesto per il corso in aula € 189 comprensivi di dispensa di studio rilegata\, registrazione dell’intero corso e attestato di frequenza cartaceo \n 
URL:https://accademiaolisticalberodellavita.it/event/on-zon-su-riflessologia-plantare-secondo-le-mappe-cinesi-2-livello/
END:VEVENT
BEGIN:VEVENT
DTSTART;TZID=UTC:20240427T100000
DTEND;TZID=UTC:20240428T190000
DTSTAMP:20260421T155506
CREATED:20240223T194932Z
LAST-MODIFIED:20240223T194932Z
UID:6784-1714212000-1714330800@accademiaolisticalberodellavita.it
SUMMARY: RAINBOW CHAKRA MASSAGE™
DESCRIPTION:IL CORSO SI SVOLGE IN VIA F. BETTI\, 6 S. LAZZARO DI SAVENA (BO) E CONTEMPORANEAMENTE IN DIRETTA ONLINE SU PIATTAFORMA ZOOM \ndocente: Maria Cristina Sapori \nContributo richiesto per il corso in aula € 189 comprensivi di dispensa di studio rilegata\, registrazione dell’intero corso e attestato di frequenza cartaceo \nContributo richiesto per il corso in diretta online su piattaforma ZOOM € 168\, comprensivi di dispensa di studio\, registrazione dell’intero corso e attestato di frequenza inviati online \n  \nProgramma teorico – pratico                                                                                                                          -Cosa vuol dire eseguire un Trattamento Olistico-Vibrazionale dei Chakra\n-Significati dei colori secondo la Cromopratica (Cromoterapia) e loro utilizzo in Rainbow\nChakra Massage™\n-Collegamenti tra i 7 Chakra principali\, gli organi interni e le emozioni\n-Studio degli abbinamenti relativi a ogni Chakra di: Colori\, Essenze Floreali e Oli essenziali\n-Rainbow Chakra MassageTM: come si prepara la parte acquosa dei preparati (o la parte alcolica se si utilizzano gli Spray Sinergici) energizzata con le vibrazioni di Colori\, Essenze Floreali e Cristalli Preparazione completa degli Oli o Spray Sinergici per eseguire Rainbow Chakra MassageTM\n-Studio approfondito degli oli essenziali di: benzoino – camomilla – cedro dell’Atlante – incenso – lavanda\n– limone – mirra – mirto – neroli – rosa – sandalo – tsuga canadensis (abete rosso canadese) – verbena -Rainbow Chakra Massage™ Detox: Trattamento che permette di liberarsi da tossine e tensioni e facilita l’armonioso fluire dell’Energia\n-Rainbow Chakra Massage™ Body & Soul: Trattamento che permette di entrare in contatto col\nproprio sentire profondo e facilitare la liberazione di memorie depotenzianti e traumi emozionali che possono rallentare (o bloccare) il proprio cammino evolutivo)\n-Visione in diretta online del video professionale relativo alle 2 tecniche di Rainbow Chakra\nMassage™ -Domande e risposte relative alle tecniche visionate
URL:https://accademiaolisticalberodellavita.it/event/rainbow-chakra-massage-4/
ATTACH;FMTTYPE=image/jpeg:https://accademiaolisticalberodellavita.it/wp-content/uploads/2020/12/oli-essenziali-1.jpg
END:VEVENT
END:VCALENDAR