BEGIN:VCALENDAR
VERSION:2.0
PRODID:-//Accademia Olistica Albero della Vita - ECPv6.15.19//NONSGML v1.0//EN
CALSCALE:GREGORIAN
METHOD:PUBLISH
X-ORIGINAL-URL:https://accademiaolisticalberodellavita.it
X-WR-CALDESC:Eventi per Accademia Olistica Albero della Vita
REFRESH-INTERVAL;VALUE=DURATION:PT1H
X-Robots-Tag:noindex
X-PUBLISHED-TTL:PT1H
BEGIN:VTIMEZONE
TZID:UTC
BEGIN:STANDARD
TZOFFSETFROM:+0000
TZOFFSETTO:+0000
TZNAME:UTC
DTSTART:20230101T000000
END:STANDARD
END:VTIMEZONE
BEGIN:VEVENT
DTSTART;TZID=UTC:20240504T100000
DTEND;TZID=UTC:20240505T190000
DTSTAMP:20260421T142001
CREATED:20240223T195113Z
LAST-MODIFIED:20240223T195113Z
UID:6786-1714816800-1714935600@accademiaolisticalberodellavita.it
SUMMARY:TAROLOGIA EVOLUTIVA – 4° LIVELLO
DESCRIPTION:IL CORSO SI SVOLGE IN DIRETTA ONLINE SU PIATTAFORMA ZOOM  \ndocente: Annalisa Ronchi \nContributo richiesto € 168\, comprensivi di dispensa di studio\, registrazione dell’intero corso e attestato di frequenza inviati online \nProgramma teorico-pratico \nI 7 raggi \nBateleur\, Force\, Le Monde \nDiagramma 3×7 viaggio verso Sirio (sentiero di consapevolezza) \nLeggi degli sguardi \nLeggi della carta in soluzione \nCollegamenti tra gli Arcani \nCollegamento con l’Epigenetica
URL:https://accademiaolisticalberodellavita.it/event/tarologia-evolutiva-4-livello/
END:VEVENT
BEGIN:VEVENT
DTSTART;TZID=UTC:20240504T143000
DTEND;TZID=UTC:20240504T183000
DTSTAMP:20260421T142001
CREATED:20240223T200047Z
LAST-MODIFIED:20240223T200047Z
UID:6788-1714833000-1714847400@accademiaolisticalberodellavita.it
SUMMARY:POMERIGGIO DEDICATO AL TIROCINIO GRATUITO IN AULA CON LA GUIDA DEGLI INSEGNANTI 
DESCRIPTION:Il tirocinio gratuito si svolge in via Pontebuco\, 7/A S. Lazzaro di Savena (BO)  \nProgramma del pomeriggio \nScambio dei trattamenti tra allievi del corso e allievi esterni dove si praticheranno tutte le tecniche imparare durante i week end di formazione\ndalle 14\,30 ALLE 18\,30 \nContributo richiesto per le spese vive € 12
URL:https://accademiaolisticalberodellavita.it/event/pomeriggio-dedicato-al-tirocinio-gratuito-in-aula-con-la-guida-degli-insegnanti-2/
END:VEVENT
BEGIN:VEVENT
DTSTART;TZID=UTC:20240511T100000
DTEND;TZID=UTC:20240512T190000
DTSTAMP:20260421T142001
CREATED:20240223T200244Z
LAST-MODIFIED:20240223T200244Z
UID:6790-1715421600-1715540400@accademiaolisticalberodellavita.it
SUMMARY:CHAKRA REBALANCING 2° MODULO
DESCRIPTION:IL CORSO SI SVOLGE IN VIA F. BETTI\, 6 S. LAZZARO DI SAVENA (BO) E CONTEMPORANEAMENTE IN DIRETTA ONLINE SU PIATTAFORMA ZOOM \ndocente: Maria Cristina Sapori \nContributo richiesto per il corso in aula € 189 comprensivi di dispensa di studio rilegata\, registrazione dell’intero corso e attestato di frequenza cartaceo \nContributo richiesto per il corso in diretta online su piattaforma ZOOM € 168\, comprensivi di dispensa di studio\, registrazione dell’intero corso e attestato di frequenza inviati online \nProgramma teorico – pratico \n-Studio dei campi di energia sottile: Nodi di Hartmann\, Linee di Curry\, Ley Lines: tecniche e geometria sacra per riportare armonia negli ambienti\n-Imparare ad ascoltare la propria Voce Interiore per vivere in armonia: meditazioni creative e tecniche di riequilibrio vibrazionale\n-Leggi karmiche: comprensione della legge di causa-effetto e meditazioni per la comprensione dei propri nodi karmici\n-Affermazioni per il riequilibrio delle energie sottili -Studio e preparazione di miscele floreali\, oli essenziali e Acque di Luce per la pulizia del campo aurico\, il riequilibrio dei Chakra\, la purificazione dell’ambiente e l’attivazione delle proprie risorse interiori
URL:https://accademiaolisticalberodellavita.it/event/chakra-rebalancing-2-modulo-2/
END:VEVENT
BEGIN:VEVENT
DTSTART;TZID=UTC:20240518T100000
DTEND;TZID=UTC:20240519T190000
DTSTAMP:20260421T142001
CREATED:20240223T200715Z
LAST-MODIFIED:20240223T200715Z
UID:6794-1716026400-1716145200@accademiaolisticalberodellavita.it
SUMMARY:RUNE ENERGETICHE – POTENTI CATALIZZATORI D’ENERGIA NEI TRATTAMENTI VIBRAZIONALI - 2° LIVELLO
DESCRIPTION:IL CORSO SI SVOLGE IN VIA OLMETOLA\, 42 BOLOGNA E CONTEMPORANEAMENTE IN DIRETTA ONLINE SU PIATTAFORMA ZOOM \ndocente: Jolanda Murero \nContributo richiesto per il corso in aula € 189 comprensivi di dispensa di studio rilegata\, registrazione dell’intero corso e attestato di frequenza cartaceo \nContributo richiesto per il corso in diretta online su piattaforma ZOOM € 168\, comprensivi di dispensa di studio\, registrazione dell’intero corso e attestato di frequenza inviati online\nProgramma teorico – pratico \n-Rune Astrali \n-Lettere e numeri Runici \n-Ombre Runiche \n-Meditazione delle 24 Rune \n-Rune Evolutive \n-Rune Reversibili e i 9 Mondi \n-Formule Vibrazionali Runiche \n-Come creare il proprio Formulario Runico \n-Protocolli per l’auto trattamento \n-Protocolli per trattamenti alle persone presenti \n-Protocolli per trattamenti agli animali\, alle piante e agli oggetti \n-2° Aettir: \n-Hagalaz \n-Nauthiz \n-Isa \n-Jera \n-Eihwaz \n-Perthro \n-Algiz \n-Sowilo \n-Per ogni Runa: \n-Simbolismo \n-Energia \n-Stato evolutivo \n-Postura energetica \n-Mudra Runico \n-Meditazione Runica \n-Mantra Runico
URL:https://accademiaolisticalberodellavita.it/event/rune-energetiche-potenti-catalizzatori-denergia-nei-trattamenti-vibrazionali-2-livello/
END:VEVENT
BEGIN:VEVENT
DTSTART;TZID=UTC:20240518T100000
DTEND;TZID=UTC:20240519T190000
DTSTAMP:20260421T142001
CREATED:20240223T200842Z
LAST-MODIFIED:20250910T210411Z
UID:6796-1716026400-1716145200@accademiaolisticalberodellavita.it
SUMMARY:RIFLESSOLOGIA PLANTARE SECONDO LE MAPPE CINESI  3° LIVELLO
DESCRIPTION:IL CORSO SI SVOLGE IN VIA PONTEBUCO\, 7/A S. LAZZARO DI SAVENA (BO \ndocente: Sonja Demuru \nContributo richiesto per il corso in aula € 189 comprensivi di dispensa di studio rilegata\, registrazione dell’intero corso e attestato di frequenza cartaceo \n 
URL:https://accademiaolisticalberodellavita.it/event/on-zon-su-riflessologia-plantare-secondo-le-mappe-cinesi-3-livello/
END:VEVENT
BEGIN:VEVENT
DTSTART;TZID=UTC:20240518T100000
DTEND;TZID=UTC:20240519T190000
DTSTAMP:20260421T142001
CREATED:20240223T201351Z
LAST-MODIFIED:20240223T201351Z
UID:6798-1716026400-1716145200@accademiaolisticalberodellavita.it
SUMMARY:COME CONDURRE UNA SEDUTA IN TECNICHE OLISTICHE
DESCRIPTION:IN DIRETTA ONLINE SU PIATTAFORMA ZOOM \ndocente: Maria Cristina Sapori \nContributo richiesto per il corso in diretta online su piattaforma ZOOM € 168\, comprensivi di dispensa di studio\, registrazione dell’intero corso e attestato di frequenza inviati online \nProgramma del corso teorico/esperienziale \nCome impostare il colloquio con il cliente: empatia\, ascolto attento\, valutazione della tipologia di intervento da attuare \nComprensione degli strumenti e delle tecniche più adeguate ad ogni caso \nRapporto Operatore Olistico – Cliente \nSimulazione in aula di casi specifici con valutazione dell’approccio olistico da attuare
URL:https://accademiaolisticalberodellavita.it/event/come-condurre-una-seduta-in-tecniche-olistiche-3/
ATTACH;FMTTYPE=image/jpeg:https://accademiaolisticalberodellavita.it/wp-content/uploads/2023/08/ORIENTAMENTO.jpg
END:VEVENT
BEGIN:VEVENT
DTSTART;TZID=UTC:20240525T100000
DTEND;TZID=UTC:20240526T190000
DTSTAMP:20260421T142001
CREATED:20240223T201741Z
LAST-MODIFIED:20240223T201741Z
UID:6800-1716631200-1716750000@accademiaolisticalberodellavita.it
SUMMARY:FLORAL MASSAGE™
DESCRIPTION:IL CORSO SI SVOLGE IN VIA F. BETTI\, 6 IDICE – S. LAZZARO DI SAVENA (BO) E CONTEMPORANEAMENTE IN DIRETTA ONLINE SU PIATTAFORMA ZOOM \ndocente: Maria Cristina Sapori \nContributo richiesto per il corso in aula € 189 comprensivi di dispensa di studio rilegata\, registrazione dell’intero corso e attestato di frequenza cartaceo \nContributo richiesto per il corso in diretta online su piattaforma ZOOM € 168\, comprensivi di dispensa di studio\, registrazione dell’intero corso e attestato di frequenza inviati online\nProgramma teorico – pratico                                                                                                       Collegamenti tra gli oli essenziali e i pianeti del Sistema Solare per comprendere le loro caratteristiche energetiche\, la loro natura riscaldante o rinfrescante e il loro corretto utilizzo per corpo e mente Studio e applicazioni pratiche di: Albero del the – Arancio dolce – Neroli (arancio amaro) – Cipresso – Citronella – Eucalipto – Finocchio Dolce – Geranio – Lavanda – Melissa – Pino Silvestre – Rosmarino – Salvia – Timo Bianco – Zenzero\nFLORAL MASSAGETM: tecniche di applicazione di oli essenziali ed essenze floreali (Fiori di Bach\, Fiori Californiani e Australian Bush) nei: trattamenti antistress – trattamenti per il riequilibrio osteoarticolare –trattamenti preparatori allo sforzo muscolare – trattamenti di mani – piedi – orecchie – addome – zona lombo sacrale\nConsigli e indicazioni per la preparazione di creme e unguenti a base di oli essenziali ed essenze floreali
URL:https://accademiaolisticalberodellavita.it/event/floral-massage-5/
ATTACH;FMTTYPE=image/jpeg:https://accademiaolisticalberodellavita.it/wp-content/uploads/2024/02/Percorso-Vibrazionale--scaled.jpg
END:VEVENT
END:VCALENDAR