BEGIN:VCALENDAR
VERSION:2.0
PRODID:-//Accademia Olistica Albero della Vita - ECPv6.15.19//NONSGML v1.0//EN
CALSCALE:GREGORIAN
METHOD:PUBLISH
X-WR-CALNAME:Accademia Olistica Albero della Vita
X-ORIGINAL-URL:https://accademiaolisticalberodellavita.it
X-WR-CALDESC:Eventi per Accademia Olistica Albero della Vita
REFRESH-INTERVAL;VALUE=DURATION:PT1H
X-Robots-Tag:noindex
X-PUBLISHED-TTL:PT1H
BEGIN:VTIMEZONE
TZID:UTC
BEGIN:STANDARD
TZOFFSETFROM:+0000
TZOFFSETTO:+0000
TZNAME:UTC
DTSTART:20230101T000000
END:STANDARD
END:VTIMEZONE
BEGIN:VEVENT
DTSTART;TZID=UTC:20240706T100000
DTEND;TZID=UTC:20240706T190000
DTSTAMP:20260421T105311
CREATED:20240223T203624Z
LAST-MODIFIED:20240223T203624Z
UID:6819-1720260000-1720292400@accademiaolisticalberodellavita.it
SUMMARY:POMERIGGIO DEDICATO AL TIROCINIO GRATUITO IN AULA CON LA GUIDA DEGLI INSEGNANTI
DESCRIPTION:Il tirocinio gratuito si svolge in via Pontebuco\, 7/A S. Lazzaro di Savena (BO)  \nProgramma del pomeriggio \nScambio dei trattamenti tra allievi del corso e allievi esterni dove si praticheranno tutte le tecniche imparare durante i week end di formazione\ndalle 14\,30 ALLE 18\,30 \nContributo richiesto per le spese vive € 12
URL:https://accademiaolisticalberodellavita.it/event/pomeriggio-dedicato-al-tirocinio-gratuito-in-aula-con-la-guida-degli-insegnanti-4/
END:VEVENT
BEGIN:VEVENT
DTSTART;TZID=UTC:20240713T100000
DTEND;TZID=UTC:20240714T190000
DTSTAMP:20260421T105311
CREATED:20240223T203808Z
LAST-MODIFIED:20240410T204738Z
UID:6821-1720864800-1720983600@accademiaolisticalberodellavita.it
SUMMARY:TECNICHE DI LIBERTA’ EMOZIONALE: E.F.T. E HO’OPONOPONO
DESCRIPTION:IL CORSO SI SVOLGE IN PRESENZA A S. LAZZARO DI SAVENA (BO) IN VIA F. BETTI\, 6 E CONTEMPORANEAMENTE IN DIRETTA ONLINE SU PIATTAFORMA ZOOM\nContributo richiesto per il corso in presenza € 189\, comprensivi di dispensa di studio rilegata\, registrazione dell’intero corso e attestato di frequenza \ndocente: Maria Cristina Sapori \nContributo richiesto € 168\, comprensivi di dispensa di studio\, attestato di frequenza e registrazione dell’intero corso inviati online \nProgramma del corso teorico-esperienziale \nTecnica di Libertà Emozionale EFT \n-Tapping (picchiettamento) per il Riequilibrio Emozionale: come si esegue \n-Punti Allarme e Meridiani Energetici \n-Polarità e inversione psicologica \n-Come formulare affermazioni che neutralizzino l’inversione psicologica \n-La Sequenza \n-La Procedura 9 Gamma \n-Valutazione dell’assetto emozionale \n-Applicazioni successive di assestamento \n-Come scardinare le cristallizazioni derivate dalle emozioni disarmoniche: \n-Esempi pratici\, esercizi e pratica della tecnica \n-Domande e risposte con esempi di casi \nHO’OPONOPONO: I punti chiave di Ho’Oponopono \n-I 3 Sé Interiori: -Supercosciente -Cosciente – Subcosciente \n-Imparare a fluire e a fidarci dell’Amore Universale \n-I 12 Passi di Oh’Oponopono \n-Forma Ho’Oponopono semplificata \n-Come portare la concentrazione sulla persona o sulla situazione sulla quale si pratica Ho’Oponopono \n-Comprensione approfondita del mantra di Ho’Oponopono: “Mi dispiace Perdonami Grazie Ti amo” \n-Preghiera di chiusura e ringraziamento \n-Come unire le 2 Tecniche di Liberazione Emozionali (EFT e HO’OPONOPONO) per ottenere risultati efficaci e duraturi \n-Esercizi e pratica insieme \n-Domande e risposte con esempi di casi
URL:https://accademiaolisticalberodellavita.it/event/tecniche-di-liberta-emozionale-e-f-t-e-hooponopono-2/
END:VEVENT
BEGIN:VEVENT
DTSTART;TZID=UTC:20240717T100000
DTEND;TZID=UTC:20240721T170000
DTSTAMP:20260421T105311
CREATED:20240208T203956Z
LAST-MODIFIED:20240708T140502Z
UID:6823-1721210400-1721581200@accademiaolisticalberodellavita.it
SUMMARY:RESIDENZIALE OLISTICO NEL MERAVIGLIOSO AGRITURISMO IL BASALETTO  SULLE COLLINE DI ASSISI
DESCRIPTION:Il Residenziale Olistico del 2024 sarà ricco di novità\, avrà una durata di 5 giorni per immergerci completamente nella magia delle Discipline Olistiche e nella bellissima energia delle Terre Sacre di Assisi e sarà aperto a tutti gli allievi che hanno fatto e fanno parte dell’Accademia in questi 10 anni di attività. \n I POSTI SONO LIMITATI
URL:https://accademiaolisticalberodellavita.it/event/residenziale-olistico-nel-meraviglioso-agriturismo-il-basaletto-sulle-colline-di-assisi/
ATTACH;FMTTYPE=image/jpeg:https://accademiaolisticalberodellavita.it/wp-content/uploads/2024/02/Residenziale-Olistico-Assisi-1.jpg
END:VEVENT
END:VCALENDAR