BEGIN:VCALENDAR
VERSION:2.0
PRODID:-//Accademia Olistica Albero della Vita - ECPv6.15.19//NONSGML v1.0//EN
CALSCALE:GREGORIAN
METHOD:PUBLISH
X-ORIGINAL-URL:https://accademiaolisticalberodellavita.it
X-WR-CALDESC:Eventi per Accademia Olistica Albero della Vita
REFRESH-INTERVAL;VALUE=DURATION:PT1H
X-Robots-Tag:noindex
X-PUBLISHED-TTL:PT1H
BEGIN:VTIMEZONE
TZID:UTC
BEGIN:STANDARD
TZOFFSETFROM:+0000
TZOFFSETTO:+0000
TZNAME:UTC
DTSTART:20240101T000000
END:STANDARD
END:VTIMEZONE
BEGIN:VEVENT
DTSTART;TZID=UTC:20250403T203000
DTEND;TZID=UTC:20250403T220000
DTSTAMP:20260420T150059
CREATED:20250226T131558Z
LAST-MODIFIED:20250226T131559Z
UID:7805-1743712200-1743717600@accademiaolisticalberodellavita.it
SUMMARY:GRUPPO DI STUDIO E SUPERVISIONE GRATUITO APERTO A  TUTTI COLORO CHE HANNO FATTO IL CORSO: I 7 SPECCHI ESSENI +  L’OTTAVO SPECCHIO
DESCRIPTION:docente: Maria Cristina Sapori \ndalle 20\,30 alle 21\,45 su PIATTAFORMA ZOOM
URL:https://accademiaolisticalberodellavita.it/event/gruppo-di-studio-e-supervisione-gratuito-aperto-a-tutti-coloro-che-hanno-fatto-il-corso-i-7-specchi-esseni-lottavo-specchio/
END:VEVENT
BEGIN:VEVENT
DTSTART;TZID=UTC:20250405T110000
DTEND;TZID=UTC:20250405T190000
DTSTAMP:20260420T150059
CREATED:20250221T204042Z
LAST-MODIFIED:20250221T204500Z
UID:7782-1743850800-1743879600@accademiaolisticalberodellavita.it
SUMMARY:Tirocinio Metodo Light & Solve™
DESCRIPTION:8aperto unicamente a chi ha frequentato il percorso di formazione) \nVia Palazzetti\, 22/m loc. Cicogna – S. Lazzaro di Savena (BO) \nContributo richiesto € 18 (per le spese vive)
URL:https://accademiaolisticalberodellavita.it/event/tirocinio-metodo-light-solve-2/
ATTACH;FMTTYPE=image/jpeg:https://accademiaolisticalberodellavita.it/wp-content/uploads/2025/02/light-1-e1742628574332.jpeg
END:VEVENT
BEGIN:VEVENT
DTSTART;TZID=UTC:20250405T110000
DTEND;TZID=UTC:20250405T190000
DTSTAMP:20260420T150100
CREATED:20250226T131729Z
LAST-MODIFIED:20250226T131729Z
UID:7807-1743850800-1743879600@accademiaolisticalberodellavita.it
SUMMARY:Tirocinio Metodo Light & Solve™ (aperto anche agli allievi che non hanno  fatto la formazione ma scelgono di sperimentare il Metodo\, solo con  prenotazione tramite messaggio whatsapp)
DESCRIPTION:DALLE 11 ALLE 18\,30 (con pausa pranzo) \ndocente: Maria Cristina Sapori \nVia Palazzetti\, 22/m loc. Cicogna – S. Lazzaro di Savena (BO) \nContributo richiesto € 18 (per le spese vive)
URL:https://accademiaolisticalberodellavita.it/event/tirocinio-metodo-light-solve-aperto-anche-agli-allievi-che-non-hanno-fatto-la-formazione-ma-scelgono-di-sperimentare-il-metodo-solo-con-prenotazione-tramite-messaggio-whatsapp/
END:VEVENT
BEGIN:VEVENT
DTSTART;TZID=UTC:20250406T100000
DTEND;TZID=UTC:20250406T210000
DTSTAMP:20260420T150100
CREATED:20250221T185707Z
LAST-MODIFIED:20250221T185835Z
UID:7731-1743933600-1743973200@accademiaolisticalberodellavita.it
SUMMARY:FIORI DI BACH\, FIORI CALIFORNIANI E AUSTRALIAN BUSH FLOWER PER GLI ANIMALI
DESCRIPTION:IL CORSO SI SVOLGE IN DIRETTA ONLINE SU PIATTAFORMA ZOOM docente: Maria Cristina Sapori \nContributo richiesto per il corso in diretta online su piattaforma ZOOM € 95\, comprensivi di dispensa di studio\, registrazione dell’intero corso e attestato di frequenza inviati online Programma del corso \n-Fiori di Bach\, Fiori Australiani\, Fiori Californiani e l’utilizzo specifico per gli animali domestici -Come scegliere i fiori per i nostri compagni di vita a quattro zampe -Come preparare le miscele sinergiche e come darle ai nostri animali \n-Cosa sono e come identificare i problemi comportamentali nei nostri animali \n-I principali problemi comportamentali: paure\, ansia da separazione\, traumi e shock\, aggressività\, problematiche legate alla socializzazione \n-Essenze floreali Fiori adatte ai vari problemi comportamentali. \n-Domande e risposte e studio di casi particolari
URL:https://accademiaolisticalberodellavita.it/event/fiori-di-bach-fiori-californiani-e-australian-bush-flower-per-gli-animali/
END:VEVENT
BEGIN:VEVENT
DTSTART;TZID=UTC:20250410T203000
DTEND;TZID=UTC:20250410T220000
DTSTAMP:20260420T150100
CREATED:20250226T201117Z
LAST-MODIFIED:20250226T201117Z
UID:7809-1744317000-1744322400@accademiaolisticalberodellavita.it
SUMMARY:GRUPPO DI STUDIO E SUPERVISIONE GRATUITO APERTO A  TUTTI: APPROFONDIMENTI SU FIORI DI BACH\, FIORI CALIFORNIANI E  AUSTRALIAN BUSH FLOWER CON ESEMPI DI CASI E SIMULAZIONI
DESCRIPTION:docente: Maria Cristina Sapori \ndalle 20\,30 alle 21\,45 su PIATTAFORMA ZOOM
URL:https://accademiaolisticalberodellavita.it/event/gruppo-di-studio-e-supervisione-gratuito-aperto-a-tutti-approfondimenti-su-fiori-di-bach-fiori-californiani-e-australian-bush-flower-con-esempi-di-casi-e-simulazioni/
END:VEVENT
BEGIN:VEVENT
DTSTART;TZID=UTC:20250412T100000
DTEND;TZID=UTC:20250413T190000
DTSTAMP:20260420T150100
CREATED:20250221T194444Z
LAST-MODIFIED:20250221T194444Z
UID:7735-1744452000-1744570800@accademiaolisticalberodellavita.it
SUMMARY:floral massage™
DESCRIPTION:IL CORSO SI SVOLGE IN VIA PALAZZETTI\, 22/m – loc. CICOGNA – S. LAZZARO DI SAVENA (BO) E CONTEMPORANEAMENTE IN DIRETTA ONLINE SU PIATTAFORMA ZOOM docente: Maria Cristina Sapori \nContributo richiesto per il corso in aula € 189 comprensivi di dispensa di studio rilegata\, registrazione dell’intero corso e attestato di frequenza cartaceo \nContributo richiesto per il corso in diretta online su piattaforma ZOOM € 168\, comprensivi di dispensa di studio\, registrazione dell’intero corso e attestato di frequenza inviati online Programma del corso teorico-esperienziale \nCollegamenti tra gli oli essenziali e i pianeti del Sistema Solare per comprendere le loro caratteristiche energetiche\, la loro natura riscaldante o rinfrescante e il loro corretto utilizzo per corpo e mente Studio e applicazioni pratiche di: Albero del the – Arancio dolce – Neroli (arancio amaro) – Cipresso – Citronella – Eucalipto – Finocchio Dolce – Geranio – Lavanda – Melissa – Pino Silvestre – Rosmarino – Salvia – Timo Bianco – Zenzero \nFLORAL MASSAGE™: tecniche di applicazione di oli essenziali ed essenze floreali (Fiori di Bach\, Fiori \nCaliforniani e Australian Bush) nei: trattamenti antistress – trattamenti per il riequilibrio osteoarticolare – trattamenti preparatori allo sforzo muscolare – trattamenti di mani – piedi – orecchie – addome – zona lombo sacrale \nConsigli e indicazioni per la preparazione di creme e unguenti a base di oli essenziali ed essenze floreali
URL:https://accademiaolisticalberodellavita.it/event/floral-massage-6/
ATTACH;FMTTYPE=image/jpeg:https://accademiaolisticalberodellavita.it/wp-content/uploads/2020/12/oli-essenziali-1.jpg
END:VEVENT
BEGIN:VEVENT
DTSTART;TZID=UTC:20250417T213000
DTEND;TZID=UTC:20250417T220000
DTSTAMP:20260420T150100
CREATED:20250226T201233Z
LAST-MODIFIED:20250226T201233Z
UID:7811-1744925400-1744927200@accademiaolisticalberodellavita.it
SUMMARY:GRUPPO DI STUDIO E SUPERVISIONE GRATUITO APERTO A  TUTTI COLORO CHE HANNO FATTO ALMENO IL CORSO SUI FIORI DI BACH: I  BINARI DI KRAMER - DOMANDE E APPROFONDIMENTO
DESCRIPTION:docente: Maria Cristina Sapori \ndalle 20\,30 alle 21\,45 su PIATTAFORMA ZOOM
URL:https://accademiaolisticalberodellavita.it/event/gruppo-di-studio-e-supervisione-gratuito-aperto-a-tutti-coloro-che-hanno-fatto-almeno-il-corso-sui-fiori-di-bach-i-binari-di-kramer-domande-e-approfondimento/
END:VEVENT
BEGIN:VEVENT
DTSTART;TZID=UTC:20250424T203000
DTEND;TZID=UTC:20250424T220000
DTSTAMP:20260420T150100
CREATED:20250226T201331Z
LAST-MODIFIED:20250226T201331Z
UID:7813-1745526600-1745532000@accademiaolisticalberodellavita.it
SUMMARY:GRUPPO DI STUDIO E SUPERVISIONE GRATUITO APERTO A  TUTTI COLORO CHE HANNO FATTO IL CORSO: TAROLOGIA EVOLUTIVA 3°  MODULO
DESCRIPTION:docente: Annalisa Ronchi \ndalle 20\,30 alle 21\,45 su PIATTAFORMA ZOOM
URL:https://accademiaolisticalberodellavita.it/event/gruppo-di-studio-e-supervisione-gratuito-aperto-a-tutti-coloro-che-hanno-fatto-il-corso-tarologia-evolutiva-3-modulo/
END:VEVENT
BEGIN:VEVENT
DTSTART;TZID=UTC:20250426T100000
DTEND;TZID=UTC:20250427T190000
DTSTAMP:20260420T150100
CREATED:20250221T194712Z
LAST-MODIFIED:20250221T194712Z
UID:7737-1745661600-1745780400@accademiaolisticalberodellavita.it
SUMMARY:COME CONDURRE UNA SEDUTA IN TECNICHE OLISTICHE
DESCRIPTION:IL CORSO SI SVOLGE IN DIRETTA ONLINE SU PIATTAFORMA ZOOM docente: Maria Cristina Sapori \nContributo richiesto per il corso in diretta online su piattaforma ZOOM € 168\, comprensivi di dispensa di studio\, registrazione dell’intero corso e attestato di frequenza inviati online Programma del corso teorico-esperienziale \nCome impostare il colloquio con il cliente: empatia\, ascolto attento\, valutazione della tipologia di intervento da attuare \nComprensione degli strumenti e delle tecniche più adeguate ad ogni caso Rapporto Operatore Olistico – Cliente \nSimulazione in aula di casi specifici con valutazione dell’approccio olistico da attuare
URL:https://accademiaolisticalberodellavita.it/event/come-condurre-una-seduta-in-tecniche-olistiche-5/
ATTACH;FMTTYPE=image/jpeg:https://accademiaolisticalberodellavita.it/wp-content/uploads/2023/08/ORIENTAMENTO.jpg
END:VEVENT
BEGIN:VEVENT
DTSTART;TZID=UTC:20250427T100000
DTEND;TZID=UTC:20250427T190000
DTSTAMP:20260420T150100
CREATED:20250221T195547Z
LAST-MODIFIED:20250221T195547Z
UID:7739-1745748000-1745780400@accademiaolisticalberodellavita.it
SUMMARY:VOICE & VIBE AEQUILIBRIUM – 2° livello
DESCRIPTION:IL CORSO SI SVOLGE IN DIRETTA ONLINE SU PIATTAFORMA ZOOM \ndocente: Barbara Magnoni \nContributo richiesto per il corso in diretta online su piattaforma ZOOM € 95\, comprensivi di dispensa di studio\, registrazione dell’intero corso e attestato di frequenza inviati online Programma del corso teorico-esperienziale \n-Gli armonici naturali e la loro progressione \n-Riequilibrio dei chakra con il suono dei bija mantra \n-Esercizi facili per enfatizzare i suoni armonici durante il canto dei mantra -Cosa sono i mantra e perché vibrarli \n-Non solo significato: l’importanza della pronuncia corretta per mantenere l’efficacia dei mantra -Impariamo alcuni dei mantra vedici più importanti con melodie della tradizione vedica e melodie occidentali
URL:https://accademiaolisticalberodellavita.it/event/voice-vibe-aequilibrium-2-livello/
ATTACH;FMTTYPE=image/jpeg:https://accademiaolisticalberodellavita.it/wp-content/uploads/2021/12/barbara-e1720464356582.jpg
END:VEVENT
END:VCALENDAR