BEGIN:VCALENDAR
VERSION:2.0
PRODID:-//Accademia Olistica Albero della Vita - ECPv6.15.19//NONSGML v1.0//EN
CALSCALE:GREGORIAN
METHOD:PUBLISH
X-ORIGINAL-URL:https://accademiaolisticalberodellavita.it
X-WR-CALDESC:Eventi per Accademia Olistica Albero della Vita
REFRESH-INTERVAL;VALUE=DURATION:PT1H
X-Robots-Tag:noindex
X-PUBLISHED-TTL:PT1H
BEGIN:VTIMEZONE
TZID:UTC
BEGIN:STANDARD
TZOFFSETFROM:+0000
TZOFFSETTO:+0000
TZNAME:UTC
DTSTART:20240101T000000
END:STANDARD
END:VTIMEZONE
BEGIN:VEVENT
DTSTART;TZID=UTC:20250906T100000
DTEND;TZID=UTC:20250907T190000
DTSTAMP:20260420T061429
CREATED:20250709T201603Z
LAST-MODIFIED:20250709T201603Z
UID:8670-1757152800-1757271600@accademiaolisticalberodellavita.it
SUMMARY:COMUNICAZIONE\, ASCOLTO ED EMPATIA: L’ARTE DI SAPER COMUNICARE
DESCRIPTION:IL CORSO SI SVOLGE IN VIA F. BETTI\, 6 IDICE – S. LAZZARO DI SAVENA (BO) E CONTEMPORANEAMENTE IN DIRETTA ONLINE SU PIATTAFORMA ZOOM  \ndocente: Federica Corbino \nContributo richiesto per il corso in aula € 198 comprensivi di dispensa di studio rilegata\, registrazione dell’intero corso e attestato di frequenza cartaceo \nContributo richiesto per il corso in diretta online su piattaforma ZOOM € 169\, comprensivi di dispensa di studio\, registrazione dell’intero corso e attestato di frequenza inviati online \nProgramma teorico-esperienziale \nPrincipi della comunicazione \nOstacoli alla comunicazione: ordinare\, minacciare\, avvertire\, dare soluzioni\, argomentare con la logica\, giudicare\, apprezzare\, etichettare\, interpretare\, rassicurare\, investigare\, cambiare argomento Obiettivi chiari per una comunicazione efficace \nComunicazione verbale\, non verbale e paraverbale \nSperimentare il proprio stile all’interno della relazione con l’interlocutore \nvalutandone l’efficacia ed eventualmente modificarlo nel corso dell’interazione \nattraverso tecniche esperienziali \nComunicazione assertiva \nImportanza dell’ascolto \nAnalizzare il contesto per comprendere la comunicazione \nPresupposti dell’empatia: saper cambiare punto di vista e vedere con gli occhi dell’altro. Tecniche esperienziali rispecchiamento e ricalco La relazione d’aiuto e come comunicare con il cliente \nAttività esperienziali \nEsperienza in gruppo: in cosa sono diverso \nEsperienza a coppie: guardati allo specchio \nEsperienza in gruppo: costruiamo un ponte \nEsperienza in gruppo: solo 20 domande \nEsperienza a coppie: ascolta e ripeti \nEsperienza in gruppo: trova chi fa coppia con te Role-playing\, psicodramma e attività di simulate operatore- cliente. Le attività esperienziali sono indicative e pertanto potranno subire cambiamenti in base al numero dei partecipanti\, allo svolgimento del corso (on-line\, in presenza o in entrambe le modalità): saranno comunque previste alla fine di ogni argomento.
URL:https://accademiaolisticalberodellavita.it/event/comunicazione-ascolto-ed-empatia-larte-di-saper-comunicare-2/
CATEGORIES:Percorsi Professionali
ATTACH;FMTTYPE=image/jpeg:https://accademiaolisticalberodellavita.it/wp-content/uploads/2023/08/ORIENTAMENTO.jpg
END:VEVENT
BEGIN:VEVENT
DTSTART;TZID=UTC:20250913T100000
DTEND;TZID=UTC:20250914T190000
DTSTAMP:20260420T061429
CREATED:20250709T201931Z
LAST-MODIFIED:20250911T062645Z
UID:8672-1757757600-1757876400@accademiaolisticalberodellavita.it
SUMMARY:RIFLESSOLOGIA PLANTARE CINESE INTEGRATA - 3° modulo
DESCRIPTION:IL CORSO SI SVOLGE IN VIA F. BETTI\, 6 IDICE – S. LAZZARO DI SAVENA (BO) \ndocente: Sonja Demuru \nContributo richiesto per il corso in aula € 198 comprensivi di dispensa di studio rilegata e attestato di frequenza cartaceo \nProgramma del corso teorico – pratico \n 
URL:https://accademiaolisticalberodellavita.it/event/on-zon-su-riflessologia-plantare-cinese-3-modulo/
CATEGORIES:Corso Monotematico,Percorsi Brevi
END:VEVENT
BEGIN:VEVENT
DTSTART;TZID=UTC:20250920T100000
DTEND;TZID=UTC:20250921T190000
DTSTAMP:20260420T061429
CREATED:20250709T202247Z
LAST-MODIFIED:20250917T163919Z
UID:8674-1758362400-1758481200@accademiaolisticalberodellavita.it
SUMMARY: FENG SHUI OLISTICO
DESCRIPTION:IL CORSO SI SVOLGE IN DIRETTA ONLINE SU PIATTAFORMA ZOOM  \ndocente: Maria Cristina Sapori \nContributo richiesto per il corso in diretta online su piattaforma ZOOM € 169\, comprensivi di dispensa di studio\, registrazione dell’intero corso e attestato di frequenza inviati online \nProgramma del corso teorico-pratico \n-Conoscere le Energie\, i Ritmi della Natura\, le influenze dei Cinque Elementi (Legno-Fuoco-Terra-Metallo-Acqua) per comprendere come influenzano l’energia della nostra casa \n-Cos’è il Feng Shui Olistico: tutto ciò che è importante sapere per arredare la casa e il luogo di lavoro \n-Come si utilizza il Bagua\, la mappa geomantica ispirata ai principi de’ I Ching e del quatrato Lo Shu\, che fa corrispondere a ogni ambiente della casa uno specifico aspetto della vita  \n-Come correggere l’energia pesante (Sha ki) negli ambienti in cui viviamo e lavoriamo attraverso l’utilizzo di sequenze numeriche\, Mandala di Geometria Sacra\, Cristalli\, Colori\, Piante\, Specchi \n-Studio e valutazione di casi specifici portati da ogni partecipante  \n-Studio di spray di protezione e purificazione di ambienti e persone
URL:https://accademiaolisticalberodellavita.it/event/feng-shui-olistico/
CATEGORIES:Corso Monotematico
ATTACH;FMTTYPE=image/jpeg:https://accademiaolisticalberodellavita.it/wp-content/uploads/2025/06/feng-shui.jpeg
END:VEVENT
BEGIN:VEVENT
DTSTART;TZID=UTC:20250925T210000
DTEND;TZID=UTC:20250925T220000
DTSTAMP:20260420T061429
CREATED:20250918T072229Z
LAST-MODIFIED:20250918T072229Z
UID:9241-1758834000-1758837600@accademiaolisticalberodellavita.it
SUMMARY:"La magia dei Mantra: vibrazioni di amore e gioia"
DESCRIPTION:Giovedì 25 settembre 2025 dalle 21 alle 22 (In diretta online su Zoom) \nDocente: Barbara Magnoni \nSerata speciale gratuita e aperta a tutti gli iscritti!
URL:https://accademiaolisticalberodellavita.it/event/la-magia-dei-mantra-vibrazioni-di-amore-e-gioia/
ATTACH;FMTTYPE=image/jpeg:https://accademiaolisticalberodellavita.it/wp-content/uploads/2020/12/slider255__0002_ninfea01.jpg
END:VEVENT
BEGIN:VEVENT
DTSTART;TZID=UTC:20250927T100000
DTEND;TZID=UTC:20250928T190000
DTSTAMP:20260420T061429
CREATED:20250709T202505Z
LAST-MODIFIED:20250709T202505Z
UID:8676-1758967200-1759086000@accademiaolisticalberodellavita.it
SUMMARY:CHAKRA REBALANCING – 1° modulo
DESCRIPTION:IL CORSO SI SVOLGE IN VIA PALAZZETTI\, 22/M – S. LAZZARO DI SAVENA (BO) E CONTEMPORANEAMENTE IN DIRETTA ONLINE SU PIATTAFORMA ZOOM \ndocente: Maria Cristina Sapori \nContributo richiesto per il corso in aula € 198 comprensivi di dispensa di studio rilegata\, registrazione dell’intero corso e attestato di frequenza cartaceo \nContributo richiesto per il corso in diretta online su piattaforma ZOOM € 169\, comprensivi di dispensa di studio\, registrazione dell’intero corso e attestato di frequenza inviati online \nProgramma del corso teorico-esperienziale\nI 7 Chakra principali: capire come funzionano e come influiscono sul nostro corpo e sulle nostre emozioni. Riconoscere quali sono i loro segnali di squilibrio e imparare ad armonizzarli  \nAttivazione dei Chakra inferiori: Esercizi e pratiche di riequilibrio energetico per aumentare energia e vitalità\nAttivazione del Chakra del cuore: ricevere e dare amore\, attraverso il riconoscimento della propria unicità Attivazione dei Chakra superiori: meditazioni creative\, mantra di purificazione e protezione.  \nLa preghiera come ponte sacro tra noi e le nostre Guide Celesti\nDurante ogni incontro impareremo come riequilibrare ogni centro d’energia attraverso l’utilizzo di: Tecniche di respirazione consapevole  \nCanto di mantra sacri di purificazione e protezione  \nMeditazione creativa guidata \nCreazione di Mandala di Luce
URL:https://accademiaolisticalberodellavita.it/event/chakra-rebalancing-1-modulo-2/
CATEGORIES:Corso Monotematico,Percorsi Professionali
ATTACH;FMTTYPE=image/jpeg:https://accademiaolisticalberodellavita.it/wp-content/uploads/2025/07/chakra-alignmen-e1764105425994.jpg
END:VEVENT
END:VCALENDAR