BEGIN:VCALENDAR
VERSION:2.0
PRODID:-//Accademia Olistica Albero della Vita - ECPv6.15.19//NONSGML v1.0//EN
CALSCALE:GREGORIAN
METHOD:PUBLISH
X-ORIGINAL-URL:https://accademiaolisticalberodellavita.it
X-WR-CALDESC:Eventi per Accademia Olistica Albero della Vita
REFRESH-INTERVAL;VALUE=DURATION:PT1H
X-Robots-Tag:noindex
X-PUBLISHED-TTL:PT1H
BEGIN:VTIMEZONE
TZID:UTC
BEGIN:STANDARD
TZOFFSETFROM:+0000
TZOFFSETTO:+0000
TZNAME:UTC
DTSTART:20240101T000000
END:STANDARD
END:VTIMEZONE
BEGIN:VEVENT
DTSTART;TZID=UTC:20251204T203000
DTEND;TZID=UTC:20251204T220000
DTSTAMP:20260420T003557
CREATED:20250918T074732Z
LAST-MODIFIED:20250918T074732Z
UID:9259-1764880200-1764885600@accademiaolisticalberodellavita.it
SUMMARY:“Erboristeria pratica - 2° modulo: approfondimenti e domande”
DESCRIPTION:Giovedì 4 dicembre 2025 dalle 20\,30 alle 22 (In diretta online su Zoom) \nDocente: Maria Cristina Sapori \nGruppo di studio e supervisione gratuito e aperto a tutti coloro che hanno partecipato al corso “Erboristeria pratica – 2° modulo: approfondimenti e domande”
URL:https://accademiaolisticalberodellavita.it/event/erboristeria-pratica-2-modulo-approfondimenti-e-domande/
END:VEVENT
BEGIN:VEVENT
DTSTART;TZID=UTC:20251206T100000
DTEND;TZID=UTC:20251207T190000
DTSTAMP:20260420T003557
CREATED:20250709T210510Z
LAST-MODIFIED:20250709T210510Z
UID:8708-1765015200-1765134000@accademiaolisticalberodellavita.it
SUMMARY: NUMEROLOGIA OLISTICA EVOLUTIVA - Scopri chi sei attraverso il linguaggio segreto dei Numeri - 2° modulo
DESCRIPTION:IL CORSO SI SVOLGE IN DIRETTA ONLINE SU PIATTAFORMA ZOOM \ndocente: Annamaria Strippoli \nContributo richiesto per il corso in diretta online su piattaforma ZOOM € 169\, comprensivi di dispensa di studio\, registrazione dell’intero corso e attestato di frequenza inviati online \nProgramma del corso teorico-pratico                                                                                                                                                                                        -Analisi e comprensione dei Numeri Doppi e Maestri in Chiave Evolutiva: esploreremo il significato profondo dei Numeri Doppi e Maestri\, scoprendo come queste energie potenti influenzino il nostro cammino di crescita personale e spirituale.                                                                         -Associazione degli Arcani dei Tarocchi e delle Energie della Matrice del Destino: approfondiremo il legame tra i Numeri che andremo ad analizzare in questo percorso \, 10-11-12-22\, i loro Arcani Maggiori corrispondenti nei Tarocchi e le energie della Matrice del Destino\, per una comprensione integrata e simbolica dei nostri archetipi numerici.                                                                                                                                       -Costruzione\, interpretazione e studio approfondito del Quadrato di Nascita: imparerai a creare il tuo Quadrato di Nascita a partire dalla data di nascita e a interpretarne gli indicatori fondamentali. Analizzeremo come i diversi elementi del Quadrato rivelino predisposizioni\, attitudini\, talenti e zone d’ombra personali\, offrendo una mappa dettagliata del proprio potenziale.                                                                                                                 -Comprensione dei Cicli di Vita dei 9 Anni: scopriremo come i cicli di 9 anni influenzino i cambiamenti e le trasformazioni nella vita\, aiutandoci a riconoscere i momenti di crescita e di sfida. Imparerai la suddivisione della vita in 4 fasi evolutive attraverso l’utilizzo delle Piramidi che ci permettono di 7 approfondire la distinzione tra Anni di Picco\, caratterizzati da spinta propulsiva e manifestazione di potenzialità\, e Anni di Sfida\, in cui si apprendono le lezioni più importanti attraverso le difficoltà.                                                                                                                                       -Breve cenno sul significato di Numeri Tripli\, Doppi o a Specchio: come l’Universo ci invia dei messaggi attraverso i Numeri                                         -Esercitazioni pratiche: ogni modulo sarà accompagnato da esercitazioni concrete per mettere subito in pratica le conoscenze acquisite e sperimentare personalmente il potere della Numerologia.
URL:https://accademiaolisticalberodellavita.it/event/numerologia-olistica-evolutiva-scopri-chi-sei-attraverso-il-linguaggio-segreto-dei-numeri-2-modulo/
CATEGORIES:Percorsi Brevi
ATTACH;FMTTYPE=image/jpeg:https://accademiaolisticalberodellavita.it/wp-content/uploads/2023/04/numerologia-1.jpeg
END:VEVENT
BEGIN:VEVENT
DTSTART;TZID=UTC:20251207T100000
DTEND;TZID=UTC:20251207T190000
DTSTAMP:20260420T003557
CREATED:20250709T210904Z
LAST-MODIFIED:20251130T100040Z
UID:8710-1765101600-1765134000@accademiaolisticalberodellavita.it
SUMMARY:COME CONDURRE UNA SEDUTA IN TECNICHE OLISTICHE
DESCRIPTION:IL CORSO SI SVOLGE IN DIRETTA ONLINE SU PIATTAFORMA ZOOM \ndocente: Maria Cristina Sapori \nContributo richiesto per il corso in diretta online su piattaforma ZOOM € 169\, comprensivi di dispensa di studio\, registrazione dell’intero corso e attestato di frequenza inviati online \nProgramma del corso teorico-esperienziale \nCome impostare il colloquio con il cliente: empatia\, ascolto attento\, valutazione della tipologia di \nintervento da attuare \nComprensione degli strumenti e delle tecniche più adeguate ad ogni caso                                             \nRapporto Operatore Olistico – Cliente \nSimulazione in aula di casi specifici con valutazione dell’approccio olistico da attuare
URL:https://accademiaolisticalberodellavita.it/event/come-condurre-una-seduta-in-tecniche-olistiche-6/
CATEGORIES:Percorsi Professionali
ATTACH;FMTTYPE=image/jpeg:https://accademiaolisticalberodellavita.it/wp-content/uploads/2023/08/ORIENTAMENTO.jpg
END:VEVENT
BEGIN:VEVENT
DTSTART;TZID=UTC:20251211T203000
DTEND;TZID=UTC:20251211T220000
DTSTAMP:20260420T003557
CREATED:20250918T075017Z
LAST-MODIFIED:20250918T075017Z
UID:9261-1765485000-1765490400@accademiaolisticalberodellavita.it
SUMMARY:“Tarologia Evolutiva Spirituale - 1° modulo: approfondimenti e domande”
DESCRIPTION:Giovedì 11 dicembre 2025 dalle 20\,30 alle 22 (in diretta online su Zoom) \nDocente: Annalisa Ronchi \nGruppo di studio e supervisione gratuito e aperto a tutti coloro che hanno partecipato al corso “Tarologia Evolutiva Spirituale – 1° modulo: approfondimenti e domande”!
URL:https://accademiaolisticalberodellavita.it/event/tarologia-evolutiva-spirituale-1-modulo-approfondimenti-e-domande/
END:VEVENT
BEGIN:VEVENT
DTSTART;TZID=UTC:20251220T100000
DTEND;TZID=UTC:20251221T190000
DTSTAMP:20260420T003557
CREATED:20250709T211225Z
LAST-MODIFIED:20250709T211225Z
UID:8715-1766224800-1766343600@accademiaolisticalberodellavita.it
SUMMARY: I FIORI DI BACH PER CORPO\, MENTE E SPIRITO 
DESCRIPTION:IL CORSO SI SVOLGE IN DIRETTA ONLINE SU PIATTAFORMA ZOOM \ndocente: Maria Cristina Sapori \nContributo richiesto per il corso in diretta online su piattaforma ZOOM € 169\, comprensivi di dispensa di studio\, registrazione dell’intero corso e attestato di frequenza inviati online \nProgramma del corso \nStudio approfondito delle 38 essenze floreali del dott. Bach:  \n-I Fiori per le paure  \n– I Fiori per l’insicurezza \ne la mancanza di autostima  \n– I Fiori per la solitudine -I Fiori per l’incapacità di vivere il proprio quotidiano \n– I Fiori per il senso di isolamento  \n– I Fiori per la disperazione  \n– I Fiori per la tendenza ad essere manipolatori e dominanti \n-Studio degli Archetipi di Luce abbinati ai Fiori di Bach \n-Studio di combinazioni di essenze floreali per il riequilibrio emozionale\, con valutazione di singoli casi e \nformulazione di miscele appropriate \n-Utilizzo del biotensor (test radioestesico) per la scelta dei diversi mix di essenze floreali                     8 \n– Domani e risposte e studio di casi portati dagli allievi
URL:https://accademiaolisticalberodellavita.it/event/i-fiori-di-bach-per-corpo-mente-e-spirito-2/
CATEGORIES:Corso Monotematico,Percorsi Professionali
ATTACH;FMTTYPE=image/jpeg:https://accademiaolisticalberodellavita.it/wp-content/uploads/2024/02/fiori-e1759780563379.jpg
END:VEVENT
BEGIN:VEVENT
DTSTART;TZID=UTC:20251228T110000
DTEND;TZID=UTC:20251228T180000
DTSTAMP:20260420T003557
CREATED:20251228T180036Z
LAST-MODIFIED:20251228T180036Z
UID:9727-1766919600-1766944800@accademiaolisticalberodellavita.it
SUMMARY:TIROCINIO E PRATICA CON SUPERVISIONE APERTO A CHI HA FREQUENTATO IL PERCORSO “METODO LIGHT & SOLVE” E A CHI VUOLE SPERIMENTARE SU DI SE’ IL METODO (ideato da Maria Cristina Sapori)
DESCRIPTION:TIROCINIO E PRATICA CON SUPERVISIONE APERTO A CHI HA FREQUENTATO IL PERCORSO “METODO LIGHT & SOLVE” E A CHI VUOLE SPERIMENTARE SU DI SE’ IL METODO (ideato da Maria Cristina Sapori) \ndalle 10\,30 alle 18  (con pausa pranzo e 2 break) in Via dell’Arcoveggio\, 49/7 Bologna \nCONTRIBUTO RICHIESTO (PER IL RIMBORSO SPESE) € 25 \ndocente: Maria Cristina Sapori
URL:https://accademiaolisticalberodellavita.it/event/tirocinio-e-pratica-con-supervisione-aperto-a-chi-ha-frequentato-il-percorso-metodo-light-solve-e-a-chi-vuole-sperimentare-su-di-se-il-metodo-ideato-da-maria-cristina-sap/
END:VEVENT
END:VCALENDAR