BEGIN:VCALENDAR
VERSION:2.0
PRODID:-//Accademia Olistica Albero della Vita - ECPv6.15.19//NONSGML v1.0//EN
CALSCALE:GREGORIAN
METHOD:PUBLISH
X-WR-CALNAME:Accademia Olistica Albero della Vita
X-ORIGINAL-URL:https://accademiaolisticalberodellavita.it
X-WR-CALDESC:Eventi per Accademia Olistica Albero della Vita
REFRESH-INTERVAL;VALUE=DURATION:PT1H
X-Robots-Tag:noindex
X-PUBLISHED-TTL:PT1H
BEGIN:VTIMEZONE
TZID:UTC
BEGIN:STANDARD
TZOFFSETFROM:+0000
TZOFFSETTO:+0000
TZNAME:UTC
DTSTART:20250101T000000
END:STANDARD
END:VTIMEZONE
BEGIN:VEVENT
DTSTART;TZID=UTC:20260606T100000
DTEND;TZID=UTC:20260607T190000
DTSTAMP:20260419T204444
CREATED:20251227T214228Z
LAST-MODIFIED:20251227T214228Z
UID:9695-1780740000-1780858800@accademiaolisticalberodellavita.it
SUMMARY:RIFLESSOLOGIA PLANTARE CINESE  INTEGRATA - 2° modulo
DESCRIPTION:IL CORSO SI SVOLGE IN VIA  DELL’ARCOVEGGIO\, 49/7 BOLOGNA \nInsegnante: Sonja Demuru \nContributo richiesto per il corso in aula € 198 comprensivi di dispensa di studio rilegata e attestato di frequenza cartaceo \nProgramma del corso teorico – pratico \n-Il viaggio dell’Anima dal concepimento alla nascita\, seconda parte… \nConoscenza e pratica delle seguenti tecniche di RIFLESSOLOGIA PLANTARE CINESE INTEGRATA \n1) Tecnica per riequilibrare le influenze del periodo prenatale che condizionano la \nnostra vita. Lavora sul piano animico\, sulle nostre radici\, su Shen\, Qi e Jing originario. \n2) Tecnica per sciogliere tensioni e stress causati da eccessive preoccupazioni e pensieri \nripetitivi. Favorisce un pensiero calmo\, chiaro e pulito e il riequilibrio della personalità. \n3) Tecnica per riattivare la circolazione energetica e disperdere gli eccessi. Riscalda e \nrilassa i piedi affaticati\, attenua rabbia e tristezza portando gioia e calma. \n-Applicazione dei Fiori di Bach e degli Oli essenziali nei punti dei Meridiani plantari. \n-Ripasso di tutte le tecniche
URL:https://accademiaolisticalberodellavita.it/event/riflessologia-plantare-cinese-integrata-2-modulo/
ATTACH;FMTTYPE=image/jpeg:https://accademiaolisticalberodellavita.it/wp-content/uploads/2025/07/on-zon-su-2.jpg
END:VEVENT
BEGIN:VEVENT
DTSTART;TZID=UTC:20260607T150000
DTEND;TZID=UTC:20260607T190000
DTSTAMP:20260419T204444
CREATED:20251227T214106Z
LAST-MODIFIED:20260416T221319Z
UID:9692-1780844400-1780858800@accademiaolisticalberodellavita.it
SUMMARY: VISITA GUIDATA ALL’ORTO BOTANICO DI CASOLA VALSENIO
DESCRIPTION:DALLE 15 alle 19 \nDocente: Maria Cristina Sapori \nContributo richiesto € 45\, comprensivi della lezione di distillazione tenuta dal tecnico distillatore dell’Orto Botanico e di dispensina di studio \nProgramma del pomeriggio didattico-esperienziale \n-Ore 15: lezione di distillazione di un olio essenziale tenuta dal tecnico distillatore dell’Orto Botanico \n-Ore 16: visita all’emporio e alla serra per eventuali acquisti di piantine aromatiche\, oli essenziali e altri prodotti dell’Orto Botanico \n-Ore 16\,30 – 18\,30: visita guidata dell’Orto Botanico tenuta da Maria Cristina Sapori\, (erborista\, aromatologa e naturopata) con spiegazione delle proprietà di erbe officinali e riconoscimento e studio delle Essenze Floreali presenti nell’Orto Botanico (Fiori di Bach\, Fiori Californiani) \n-Ore 19\,30 (per chi vuole): Cena insieme alla trattoria piadineria da Lori Via Cantoni\, 5 Casola Valsenio
URL:https://accademiaolisticalberodellavita.it/event/visita-guidata-allorto-botanico-di-casola-valsenio-2/
ATTACH;FMTTYPE=image/jpeg:https://accademiaolisticalberodellavita.it/wp-content/uploads/2025/12/casola-valsenio.jpeg
END:VEVENT
BEGIN:VEVENT
DTSTART;TZID=UTC:20260611T203000
DTEND;TZID=UTC:20260611T220000
DTSTAMP:20260419T204444
CREATED:20251228T181117Z
LAST-MODIFIED:20251228T181117Z
UID:9748-1781209800-1781215200@accademiaolisticalberodellavita.it
SUMMARY: GRUPPO DI STUDIO GRATUITO  CON SUPERVISIONE APERTO A CHI HA FREQUENTATO IL CORSO “I 7 SPECCHI ESSENI + L’OTTAVO SPECCHIO”
DESCRIPTION:  \ndalle 20\,30 alle 22  in diretta online – piattaforma Zoom \ndocente: Maria Cristina Sapori
URL:https://accademiaolisticalberodellavita.it/event/gruppo-di-studio-gratuito-con-supervisione-aperto-a-chi-ha-frequentato-il-corso-i-7-specchi-esseni-lottavo-specchio/
END:VEVENT
BEGIN:VEVENT
DTSTART;TZID=UTC:20260613T100000
DTEND;TZID=UTC:20260614T190000
DTSTAMP:20260419T204444
CREATED:20251019T123053Z
LAST-MODIFIED:20260331T174505Z
UID:8806-1781344800-1781463600@accademiaolisticalberodellavita.it
SUMMARY:Percorso di formazione in Numerologia Olistica Evolutiva – Inizio corsi: 13 e 14 giugno 2026
DESCRIPTION:I CORSI SI SVOLGONO IN DIRETTA ONLINE SU PIATTAFORMA ZOOM. \nLA DISPENSA DI STUDIO E L’ATTESTATO DI FREQUENZA VENGONO INVIATI ONLINE. \nORARIO DEI CORSI\nTutti i corsi si svolgono sabato e domenica\, dalle 10 alle 19\, con 2 break e pausa pranzo in ogni giornata (16 ore di formazione in ogni week end). \nDOCENTE: ANNAMARIA STRIPPOLI \n  \nPROGRAMMA DEL PERCORSO\n  \n 13 – 14 giugno 2026: NUMEROLOGIA OLISTICA EVOLUTIVA – 1° Livello\nProgramma teorico-pratico \n\nScopri chi sei attraverso il linguaggio segreto dei Numeri Il corso di Numerologia Olistica Evolutiva è un viaggio esperienziale alla scoperta di sé\, in cui ogni partecipante impara a decifrare i codici nascosti nei Numeri che accompagnano la propria esistenza. Attraverso un approccio pratico e intuitivo\, esploreremo insieme come i Numeri possano rivelare talenti\, attitudini\, potenzialità e il Progetto di vita di ciascuno di noi. In questo 1° modulo vedremo:\nNumeri come chiave della personalità: scopriremo come ognuno di noi sia associato a specifici Numeri che custodiscono i segreti della nostra unicità e ci aiutano a comprendere il nostro percorso esistenziale.\nCalcolo e interpretazione dei Numeri personali: imparerai a ricavare il tuo Numero del Destino\, il Numero dell’Espressione e il Numero della Mission\, strumenti fondamentali per conoscere la direzione della tua anima e le tue potenzialità. Scopriremo insieme come trovare e interpretare i Numeri di Interiorità e Personalità\, che rappresentano la tua dimensione più autentica e il tuo mondo interiore.\nAnalisi profonda della Carta Numerologica: ti guiderò nella creazione della Carta di Numerologica per individuare predisposizioni\, attitudini e talenti.\nRelazioni e affinità nei Numeri: analizzeremo come i Numeri influenzano le dinamiche di coppia\, le amicizie e le relazioni professionali\, per comprendere meglio le affinità e le differenze che viviamo ogni giorno.\nNumeri Karmici e Numeri Ombra: approfondiremo il significato dei Numeri Karmici\, portatori di memorie e insegnamenti\, e dei Numeri Ombra\, che ci aiutano a riconoscere e trasformare le nostre sfide interiori.\nEsplorazione degli Archetipi Numerici: ogni archetipo sarà collegato al corrispondente Arcano Maggiore dei Tarocchi\, così da arricchire la comprensione simbolica e offrire una visione più ampia delle sue qualità.\nEsperienze pratiche e studio di casi reali\nDurante il corso analizzeremo insieme i Numeri di Nascita dei partecipanti e ci confronteremo su casi particolari\, per imparare a leggere e interpretare le Carte Numerologiche in modo concreto e personalizzato.\n\nContributo richiesto € 178\, comprensivi di dispensa di studio  e attestato di frequenza inviati online \n\n  \n 4 – 5 luglio 2026: NUMEROLOGIA OLISTICA EVOLUTIVA – 2° Livello\nProgramma del corso teorico-pratico \n\nScopri chi sei attraverso il linguaggio segreto dei Numeri\nIl corso di Numerologia Olistica Evolutiva è un viaggio esperienziale alla scoperta di sé\, in cui ogni partecipante impara a decifrare i codici nascosti nei Numeri che accompagnano la propria esistenza. Attraverso un approccio pratico e intuitivo\, esploreremo insieme come i Numeri possano rivelare talenti\, attitudini\, potenzialità e il Progetto di vita di ciascuno di noi. In questo 2° modulo vedremo:\nAnalisi e comprensione dei Numeri Doppi e Maestri in Chiave Evolutiva: esploreremo il significato profondo dei Numeri Doppi e Maestri\, scoprendo come queste energie potenti influenzino il nostro cammino di crescita personale e spirituale.\nCenni sull’associazione degli Arcani dei Tarocchi. Approfondiremo il legame tra i Numeri che andremo ad analizzare in questo percorso: Numeri 10-11-12-22\, i loro Arcani Maggiori corrispondenti nei Tarocchi per una comprensione integrata e simbolica dei nostri archetipi numerici.\nCostruzione\, interpretazione e studio approfondito del Quadrato di Nascita: imparerai a creare il tuo Quadrato di Nascita a partire dalla data di nascita e a interpretarne gli indicatori fondamentali. Analizzeremo come i diversi elementi del Quadrato rivelino predisposizioni\, attitudini\, talenti e zone d’ombra personali\, offrendo una mappa dettagliata del proprio potenziale.\nComprensione dei Cicli di Vita di 9 Anni\nScopriremo come i cicli di 9 anni influenzino i cambiamenti e le trasformazioni nella vita\, aiutandoci a riconoscere i momenti di crescita e di sfida. Imparerai la suddivisione della vita in 4 fasi evolutive attraverso l’utilizzo delle Piramidi che ci permettono di approfondire la distinzione tra Anni di Picco\, caratterizzati da spinta propulsiva e manifestazione di potenzialità\, e Anni di Sfida\, in cui si apprendono le lezioni più importanti attraverso le difficoltà.\nBreve cenno sul significato di Numeri Tripli\, Doppi o a Specchio: come l’Universo ci invia dei messaggi attraverso i Numeri\nEsercitazioni pratiche\nOgni modulo sarà accompagnato da esercitazioni concrete per mettere subito in pratica le conoscenze acquisite e sperimentare personalmente il potere della Numerologia.\n\nContributo richiesto € 178\, comprensivi di dispensa di studio  e attestato di frequenza inviati online \n\n20 settembre 2026: NUMEROLOGIA OLISTICA EVOLUTIVA – 3° Livello\nProgramma del corso teorico-pratico \n\nStudio e approfondimenti sulla lettura e spiegazione al cliente della Carta di Numerologia\, sulle Comparazioni di Coppia con comprensione delle diverse combinazioni dei Numeri di Espressione\, Destino e Mission\nStudio e approfondimenti sulla lettura del Quadrato di Nascita\, con valutazione di casi particolari e sulla lettura dei Cicli dei 9 anni (Picchi e Sfide)\nCenni sulla Matrice del Destino e le Energie del Giorno e del Mese di Nascita\nLa Zona Comfort e il Potere Personale\n Definizione e individuazione della Zona Comfort all’interno della propria matrice\, come la Zona Comfort rappresenta il centro di equilibrio e il fulcro del potere personale\nDomande e risposte                                                                                                                                                                                                            Contributo richiesto € 98\, comprensivi di dispensa di studio  e attestato di frequenza inviati online\n\n 
URL:https://accademiaolisticalberodellavita.it/event/percorso-di-formazione-per-diventare-operatore-in-numerologia-olistica-evolutiva-inizio-corsi-13-e-14-giugno-2025/
CATEGORIES:Percorsi Brevi,Percorsi Brevi Interi
ATTACH;FMTTYPE=image/jpeg:https://accademiaolisticalberodellavita.it/wp-content/uploads/2023/04/numerologia-1.jpeg
END:VEVENT
BEGIN:VEVENT
DTSTART;TZID=UTC:20260613T100000
DTEND;TZID=UTC:20260614T190000
DTSTAMP:20260419T204444
CREATED:20251227T214356Z
LAST-MODIFIED:20260102T225151Z
UID:9697-1781344800-1781463600@accademiaolisticalberodellavita.it
SUMMARY:NUMEROLOGIA OLISTICA EVOLUTIVA – 1° modulo
DESCRIPTION:IL CORSO SI SVOLGE IN DIRETTA ONLINE SU PIATTAFORMA ZOOM \nDocente: Annamaria Strippoli \nContributo richiesto per il corso in diretta online su piattaforma ZOOM € 178\, comprensivi di dispensa di studio  e attestato di frequenza inviati online \nProgramma teorico-pratico \nScopri chi sei attraverso il linguaggio segreto dei Numeri Il corso di Numerologia Olistica Evolutiva è un viaggio esperienziale alla scoperta di sé\, in cui ogni partecipante impara a decifrare i codici nascosti nei Numeri che accompagnano la propria esistenza. Attraverso un approccio pratico e intuitivo\, esploreremo insieme come i Numeri possano rivelare talenti\, attitudini\, potenzialità e il Progetto di vita di ciascuno di noi.  \nIn questo 1° modulo vedremo: \n-Numeri come chiave della personalità: scopriremo come ognuno di noi sia associato a specifici Numeri che custodiscono i segreti della nostra unicità e ci aiutano a comprendere il nostro percorso esistenziale. \n-Calcolo e interpretazione dei Numeri personali: imparerai a ricavare il tuo Numero del Destino\, il Numero dell’Espressione e il Numero della Mission\, strumenti fondamentali per conoscere la direzione della tua anima e le tue potenzialità. Scopriremo insieme come trovare e interpretare i Numeri di Interiorità e Personalità\, che rappresentano la tua dimensione più autentica e il tuo mondo interiore. \n-Analisi profonda della Carta Numerologica: ti guiderò nella creazione della Carta di Numerologica per individuare predisposizioni\, attitudini e talenti. \n-Relazioni e affinità nei Numeri: analizzeremo come i Numeri influenzano le dinamiche di coppia\, le amicizie e le relazioni professionali\, per comprendere meglio le affinità e le differenze che viviamo ogni giorno. \n-Numeri Karmici e Numeri Ombra: approfondiremo il significato dei Numeri Karmici\, portatori di memorie e insegnamenti\, e dei Numeri Ombra\, che ci aiutano a riconoscere e trasformare le nostre sfide interiori. \n-Esplorazione degli Archetipi Numerici\, Genealogia e Matrice del Destino: per ogni Numero\, approfondiremo il suo archetipo secondo la tradizione numerologica\, mettendo in luce le energie\, le potenzialità e le sfide che porta nella nostra esperienza quotidiana. Ogni archetipo sarà collegato al corrispondente Arcano Maggiore dei Tarocchi\, così da arricchire la comprensione simbolica e offrire una visione più ampia delle sue qualità. Inoltre\, esploreremo come ciascun Numero si intrecci con le memorie genealogiche e come la Matrice del Destino – che integra numeri personali e familiari – possa svelare il significato energetico e il potenziale evolutivo di ognuno di noi. \n-Esperienze pratiche e studio di casi reali \n-Durante il corso analizzeremo insieme i Numeri di Nascita dei partecipanti e ci confronteremo su casi particolari\, per imparare a leggere e interpretare le Carte Numerologiche in modo concreto e personalizzato.
URL:https://accademiaolisticalberodellavita.it/event/numerologia-olistica-evolutiva-1-modulo/
ATTACH;FMTTYPE=image/jpeg:https://accademiaolisticalberodellavita.it/wp-content/uploads/2023/04/numerologia-1.jpeg
END:VEVENT
BEGIN:VEVENT
DTSTART;TZID=UTC:20260613T100000
DTEND;TZID=UTC:20260614T190000
DTSTAMP:20260419T204444
CREATED:20260320T160923Z
LAST-MODIFIED:20260320T160923Z
UID:9930-1781344800-1781463600@accademiaolisticalberodellavita.it
SUMMARY:Corso di formazione in: Le Ferite dell'Anima: scoprire come condizionano la nostra vita e le nostre relazion. Inizio corso: 13 e 14 giugno 2026
DESCRIPTION:IL CORSO SI SVOLGE IN VIA DELL’ARCOVEGGIO\, 49/7 BOLOGNA E CONTEMPORANEAMENTE IN DIRETTA ONLINE SU  \nPIATTAFORMA ZOOM\n\n\nORARI CORSO: dalle 10 alle 19\, con pausa pranzo e 2 break in entrambe le giornate\n\nDocente: Maria Cristina Sapori \n  \nContributo richiesto per il corso in aula € 198 comprensivi di dispensa di studio rilegata e attestato di frequenza cartaceo \nContributo richiesto per il corso in diretta online € 178\, comprensivi di dispensa di studio e attestato di frequenza inviati online \n  \nProgramma del corso teorico-esperienziale \n-Tecniche di centratura e ascolto interiore \n-Metodi di indagine per comprendere come mente-corpo ed emozioni interagiscono favorendo l’esordio di dis-agio e malessere: le 5 Ferite dell’Anima (Ferite Emozionali) \n-Come riconoscere le proprie Ferite dell’Anima e prendersene cura \n-L’importanza di dare un nome alle proprie emozioni\, soprattutto a quelle più nascoste \n-Cosa nasconde la tendenza eccessiva a giustificarci \n-Metodo Light & Solve™: un nuovo metodo efficace per affrontare i momenti difficili \n-Come guidare il cliente verso la comprensione delle possibili cause delle disarmonie che si stanno vivendo \n-Esercitazioni e pratica in aula \n-Domande e risposte sui casi trattati in aula
URL:https://accademiaolisticalberodellavita.it/event/corso-di-formazione-in-le-ferite-dellanima-scoprire-come-condizionano-la-nostra-vita-e-le-nostre-relazion-inizio-corso-13-e-14-giugno-2026/
CATEGORIES:Percorsi Brevi,Percorsi Brevi Interi
ATTACH;FMTTYPE=image/jpeg:https://accademiaolisticalberodellavita.it/wp-content/uploads/2026/03/ferite-dellanima-1.jpg
END:VEVENT
BEGIN:VEVENT
DTSTART;TZID=UTC:20260614T143000
DTEND;TZID=UTC:20260614T183000
DTSTAMP:20260419T204444
CREATED:20251228T181300Z
LAST-MODIFIED:20251228T181300Z
UID:9750-1781447400-1781461800@accademiaolisticalberodellavita.it
SUMMARY:TIROCINIO E PRATICA CON SUPERVISIONE APERTO A CHI HA FREQUENTATO I CORSI “HOT STONE MASSAGE” e “ MASSAGGIO CALIFORNIANO”)
DESCRIPTION:dalle 14\,30 alle 18\,30 (con 1 break)   \nin Via dell’Arcoveggio\, 49/7 Bologna \nCONTRIBUTO RICHIESTO (PER IL RIMBORSO SPESE) € 25 \ndocente: Camilla Cavazzoni
URL:https://accademiaolisticalberodellavita.it/event/tirocinio-e-pratica-con-supervisione-aperto-a-chi-ha-frequentato-i-corsi-hot-stone-massage-e-massaggio-californiano/
END:VEVENT
BEGIN:VEVENT
DTSTART;TZID=UTC:20260620T100000
DTEND;TZID=UTC:20260621T190000
DTSTAMP:20260419T204444
CREATED:20250714T181644Z
LAST-MODIFIED:20260215T030825Z
UID:8869-1781949600-1782068400@accademiaolisticalberodellavita.it
SUMMARY:Corso di formazione per costruire e imparare a suonare il Tamburo Sciamanico e condurre Bagni Sonori con gli Strumenti delle Tradizioni Ancestrali. Inizio corsi: 20 e 21 giugno 2026
DESCRIPTION:ORARI CORSO: sabato e domenica dalle 10 alle 19 (con pausa pranzo e 2 break in entrambe le giornate) \n\n\n\nSEDE CORSO: BOLOGNA VIA DELL’ARCOVEGGIO\, 49/7  \nDOCENTI: ALESSIO BENNATI (ALCE BIANCO)\, LINDA FERIOLI (I SUONI DELL’ANIMA) E BARBARA MAGNONI \n  \n20 – 21 giugno 2026: Costruire e imparare a suonare il Tamburo Sciamanico\ndocenti: Alessio Bennati (Alce Bianco) e Linda Ferioli \n  Programma del corso teorico-pratico-esperienziale Il battito del Tamburo rappresenta simbolicamente il battito del cuore che è il centro delle nostre emozioni. Le sue vibrazioni ripetitive sono in grado di lavorare sul nostro sistema nervoso centrale e ristabilire l’ordine cellulare e riequilibrare disarmonie e traumi. Il Tamburo Sciamanico è collegato all’elemento Terra\, ai nostri centri energetici e quindi a tutte le nostre potenzialità. Con il suono costante riportiamo al nostro corpo il ricordo delle nostre origini e abbiamo la possibilità di ritrovare il contatto con Madre Terra da cui proveniamo e siamo nutriti Il tuo Tamburo esiste già su altri piani sottili e aspetta solo di suonare il proprio battito in armonia profonda con il tuo Il Tamburo Sciamanico non è uno strumento musicale e per partecipare non è necessario avere abilità con strumenti generali o conoscere la musica. La cosa davvero importante è che tu senta la chiamata a realizzarlo. Il processo di realizzazione comporta molta dedicazione e presenza. Le singole fasi richiedono tempo e ci insegnano a rallentare\, respirare ed essere nel momento presente; oltre alla pratica di realizzazione\, comprende la parte energetica e rituale\, attraverso il contatto con lo Spirito del proprio Tamburo\, con cui ognuno instaurerà un rapporto unico e personale Ogni Tamburo sarà unico e originale perché porterà con sé la storia che gli ha dato vita Dopo aver costruito il proprio Tamburo Sciamanico si farà pratica insieme per imparare a suonarlo in armonia e profondo contatto con se stessi e con gli altri partecipanti del Cerchio Sciamanico Contributo richiesto per il corso in aula € 254\, comprensivi del tamburo sciamanico che ognuno costruisce\, della teoria e della pratica per imparare a suonarlo da soli e in gruppo     \nContributo richiesto per il corso in aula € 254\, comprensivi del tamburo sciamanico che ogni allievo ha costruito e dell’attestato di frequenza    \n  \n  \n19 – 20 settembre 2026: Campane Tibetane e Strumenti delle Tradizioni Ancestrali: conoscerli e imparare a suonarli per l’armonia e il benessere della persona\ndocenti: Barbara Magnoni\, Alessio Bennati (Alce Bianco) e Linda Ferioli \nContributo richiesto per il corso in presenza € 198\, comprensivi di attestato di frequenza \nProgramma del corso teorico-esperienziale \nSABATO: \n-campane tibetane: origini e tipologie  \n-come sceglierle e abbinarle \n-suono\, armonici naturali e legge di risonanza: cosa sono e come agiscono sul corpo fisico e sui corpi sottili \n-affinare l’ascolto\, non solo attraverso l’udito \n-L’imprescindibilità dell’intenzione \n-tecniche di percussione e sfregamento \n-trattamento individuale e autotrattamento \nDOMENICA: \n-imparare a conoscere gli effetti e a utilizzare alcuni fra gli strumenti delle Tradizioni Ancestrali: \nmonocordo\, arpe tubolari\, gong\, tamburo\, loschi \n-Pratica insieme \n  \n \n10 – 11 ottobre 2026: Come condurre un Bagno Sonoro individuale e collettivo\ndocenti: Alessio Bennati (Alce Bianco)\, Linda Ferioli e Barbara Magnoni \nContributo richiesto per il corso in presenza € 198\, comprensivi di attestato di frequenza \nProgramma del corso esperienziale-comprendere come fare un trattamento energetico-sonoro invidiare usando strumenti musicali delleAntiche e Nuove Tradizioni (tamburo sciamanico\, campane\, shruti box\, koshi\, cimbali\, sonagli\, e altroancora) integrandoli con altre tecniche vibrazionali per portare benessere e armonia individuale o in un gruppo-comprendere come creare uno Spazio Sacro e come leggere il linguaggio del corpo\, le reazioni emotive e il campo aureo di ogni partecipante-l’importanza di permettere che l’esperienza del Bagno di Suoni sia armoniosa e offerta con amorevolezza e grande presenza-comprendere con fare una Limpia Sciamanica (pulizia del Campo Energetico)-comprendere come realizzare un Bagno di Suoni per stimolare il sistema di equilibriodel corpo e attivare una profonda riparazione a livello cellulare\, percependo come lavibrazione sonora produca un profondo effetto rilassante a tutti i livelli dell’Essere-pratica in aula-domande e risposte \n  \n\n 
URL:https://accademiaolisticalberodellavita.it/event/corso-di-formazione-per-costruire-e-imparare-a-suonare-il-tamburo-sciamanico/
CATEGORIES:Percorsi Brevi,Percorsi Brevi Interi
ATTACH;FMTTYPE=image/jpeg:https://accademiaolisticalberodellavita.it/wp-content/uploads/2024/12/LINDA-E-ALESSIO-e1752589120895.jpeg
END:VEVENT
BEGIN:VEVENT
DTSTART;TZID=UTC:20260620T100000
DTEND;TZID=UTC:20260621T190000
DTSTAMP:20260419T204444
CREATED:20251227T214535Z
LAST-MODIFIED:20251227T214535Z
UID:9699-1781949600-1782068400@accademiaolisticalberodellavita.it
SUMMARY:TAMBURO SCIAMANICO: COME COSTRUIRLO E IMPARARE A SUONARLO
DESCRIPTION:IL CORSO SI SVOLGE IN VIA  DELL’ARCOVEGGIO\, 49/7 BOLOGNA \nDocenti: Alessio Bennati e Linda Ferioli \nContributo richiesto per il corso in aula € 254\, comprensivi del tamburo sciamanico (diametro cm 45) che ogni allievo ha costruito e dell’attestato di frequenza cartaceo \nProgramma del corso teorico-pratico-esperienziale \n-Il battito del Tamburo rappresenta simbolicamente il battito del cuore che è il centro delle nostre \nemozioni. Le sue vibrazioni ripetitive sono in grado di lavorare sul nostro sistema nervoso centrale e \nristabilire l’ordine cellulare e riequilibrare disarmonie e traumi \n-Il Tamburo Sciamanico è collegato all’elemento Terra\, ai nostri centri energetici e quindi a tutte le nostre \npotenzialità. Con il suono costante riportiamo al nostro corpo il ricordo delle nostre origini e abbiamo la \npossibilità di ritrovare il contatto con Madre Terra da cui proveniamo e siamo nutriti \n-Il tuo Tamburo esiste già su altri piani sottili e aspetta solo di suonare il proprio battito in armonia \nprofonda con il tuo \n-Il Tamburo Sciamanico non è uno strumento musicale e per partecipare non è necessario avere abilità \ncon strumenti generali o conoscere la musica. La cosa davvero importante è che tu senta la chiamata a \nrealizzarlo \n-Il processo di realizzazione comporta molta dedicazione e presenza. Le singole fasi richiedono tempo e ci \ninsegnano a rallentare\, respirare ed essere nel momento presente; oltre alla pratica di realizzazione\, \ncomprende la parte energetica e rituale\, attraverso il contatto con lo Spirito del proprio Tamburo\, con cui \nognuno instaurerà un rapporto unico e personale \n-Ogni Tamburo sarà unico e originale perché porterà con sé la storia che gli ha dato vita Dopo aver \ncostruito il proprio Tamburo Sciamanico si farà pratica insieme per imparare a suonarlo in armonia e \nprofondo contatto con se stessi e con gli altri partecipanti del Cerchio Sciamanico
URL:https://accademiaolisticalberodellavita.it/event/tamburo-sciamanico-come-costruirlo-e-imparare-a-suonarlo/
ATTACH;FMTTYPE=image/jpeg:https://accademiaolisticalberodellavita.it/wp-content/uploads/2024/12/LINDA-E-ALESSIO-e1752589120895.jpeg
END:VEVENT
BEGIN:VEVENT
DTSTART;TZID=UTC:20260627T100000
DTEND;TZID=UTC:20260628T190000
DTSTAMP:20260419T204444
CREATED:20251227T214714Z
LAST-MODIFIED:20251227T214714Z
UID:9702-1782554400-1782673200@accademiaolisticalberodellavita.it
SUMMARY: MASSAGGIO TRADIZIONALE SVEDESE
DESCRIPTION:IL CORSO SI SVOLGE IN VIA  DELL’ARCOVEGGIO\, 49/7 BOLOGNA \nDocente: Camilla Cavazzoni \nContributo richiesto per il corso in aula € 198 comprensivi di dispensa di studio rilegata e attestato di frequenza cartaceo \nProgramma del corso teorico-pratico \n-Teoria del massaggio: definizione ed effetti generali\, descrizione effetti specifici sul corpo e sulla mente \n-Introduzione al corpo umano: cenni di anatomia \n-Storia del massaggio tradizionale svedese \n-Preparazione alla pratica del massaggio: accoglienza del ricevente\, ambiente e centratura dell’operatore \n-Valutazione generale fisica ed energetica del ricevente \n-Benefici e controindicazioni del massaggio tradizionale svedese \n-Manualità e posizione delle mani \n-La postura dell’operatore \n-L’importanza del contatto \n-Sequenza del massaggio: \nPOSIZIONE PRONA – SCHIENA \nPOSIZIONE PRONA – ARTI SUPERIORI E COLLO \nPOSIZIONE PRONA – ARTI INFERIORI E GLUTEI \nPOSIZIONE SUPINA – ARTI INFERIORI \nPOSIZIONE SUPINA – ADDOME\, ARTI SUPERIORI E COLLO \nPOSIZIONE SUPINA – VISO E TESTA \n-Chiusura del trattamento e indicazioni per il ricevente \n-Indicazioni oli vettori per il massaggio tradizionale svedese \n-Miscele con oli essenziali ed essenze floreali adatte al massaggio tradizionale svedese \n-Integrazione degli strumenti sonori vibrazionali (diapason e campane) con il massaggio tradizionale svedese \n-Esercitazione e sviluppo pratico della manualità
URL:https://accademiaolisticalberodellavita.it/event/massaggio-tradizionale-svedese/
ATTACH;FMTTYPE=image/jpeg:https://accademiaolisticalberodellavita.it/wp-content/uploads/2025/06/MASSAGIO-copia.jpg
END:VEVENT
END:VCALENDAR