BEGIN:VCALENDAR
VERSION:2.0
PRODID:-//Accademia Olistica Albero della Vita - ECPv6.15.19//NONSGML v1.0//EN
CALSCALE:GREGORIAN
METHOD:PUBLISH
X-WR-CALNAME:Accademia Olistica Albero della Vita
X-ORIGINAL-URL:https://accademiaolisticalberodellavita.it
X-WR-CALDESC:Eventi per Accademia Olistica Albero della Vita
REFRESH-INTERVAL;VALUE=DURATION:PT1H
X-Robots-Tag:noindex
X-PUBLISHED-TTL:PT1H
BEGIN:VTIMEZONE
TZID:UTC
BEGIN:STANDARD
TZOFFSETFROM:+0000
TZOFFSETTO:+0000
TZNAME:UTC
DTSTART:20250101T000000
END:STANDARD
END:VTIMEZONE
BEGIN:VEVENT
DTSTART;TZID=UTC:20260704T100000
DTEND;TZID=UTC:20260705T190000
DTSTAMP:20260419T224135
CREATED:20251227T214850Z
LAST-MODIFIED:20260102T225353Z
UID:9705-1783159200-1783278000@accademiaolisticalberodellavita.it
SUMMARY:NUMEROLOGIA OLISTICA EVOLUTIVA 2° modulo
DESCRIPTION:IL CORSO SI SVOLGE IN DIRETTA ONLINE SU PIATTAFORMA ZOOM \nDocente: Annamaria Strippoli \nContributo richiesto per il corso in diretta online su piattaforma ZOOM € 178\, comprensivi di dispensa di studio  e attestato di frequenza inviati online \nProgramma del corso teorico-pratico \n-Analisi e comprensione dei Numeri Doppi e Maestri in Chiave Evolutiva: esploreremo il significato profondo dei Numeri Doppi e Maestri\, scoprendo come queste energie potenti influenzino il nostro cammino di crescita personale e spirituale \n-Associazione degli Arcani dei Tarocchi e delle Energie della Matrice del Destino: approfondiremo il legame tra i Numeri che andremo ad analizzare in questo percorso\, 10-11-12-22\, i loro Arcani Maggiori corrispondenti nei Tarocchi e le energie della Matrice del Destino\, per una comprensione integrata e simbolica dei nostri archetipi numerici \n-Costruzione\, interpretazione e studio approfondito del Quadrato di Nascita: imparerai a creare il tuo Quadrato di Nascita a partire dalla data di nascita e a interpretarne gli indicatori fondamentali. Analizzeremo come i diversi elementi del Quadrato rivelino predisposizioni\, attitudini\, talenti e zone d’ombra personali\, offrendo una mappa dettagliata del proprio potenziale \n-Comprensione dei Cicli di Vita dei 9 Anni: scopriremo come i cicli di 9 anni influenzino i cambiamenti e le trasformazioni nella vita\, aiutandoci a riconoscere i momenti di crescita e di sfida. Imparerai la suddivisione della vita in 4 fasi evolutive attraverso l’utilizzo delle Piramidi che ci permettono di 7 approfondire la distinzione tra Anni di Picco\, caratterizzati da spinta propulsiva e manifestazione di potenzialità\, e Anni di Sfida\, in cui si apprendono le lezioni più importanti attraverso le difficoltà \n-Breve cenno sul significato di Numeri Tripli\, Doppi o a Specchio: come l’Universo ci invia dei messaggi attraverso i Numeri -Esercitazioni pratiche: ogni modulo sarà accompagnato da esercitazioni concrete per mettere subito in pratica le conoscenze acquisite e sperimentare personalmente il potere della numerologia
URL:https://accademiaolisticalberodellavita.it/event/numerologia-olistica-evolutiva-2-modulo-3/
ATTACH;FMTTYPE=image/jpeg:https://accademiaolisticalberodellavita.it/wp-content/uploads/2023/04/numerologia-1.jpeg
END:VEVENT
BEGIN:VEVENT
DTSTART;TZID=UTC:20260710T150000
DTEND;TZID=UTC:20260712T170000
DTSTAMP:20260419T224135
CREATED:20251227T215123Z
LAST-MODIFIED:20251227T215123Z
UID:9708-1783695600-1783875600@accademiaolisticalberodellavita.it
SUMMARY:RESIDENZIALE OLISTICO ESTIVO
DESCRIPTION:presso Agriturismo Germogli – Tenuta Fassia – Gubbio (PG) \nProgramma delle giornate \nTrascorreremo insieme3 intense giornate sulle colline di Gubbio (vicino ad Assisi)\, presso l’agriturismo Germogli – Tenuta di Fassia\, un luogo di pace in mezzo alla natura. \nLe nostre giornate comprenderanno tante attività: \nMeditazioni Creative in riva al lago accompagnate dagli strumenti delle tradizioni antiche per entrare in contatto col proprio sentire profondo e con la magia dei luoghi con Maria Cristina Sapori\, Alessio Bennati (Alce Bianco) e Linda Ferioli \nstudio e pratica delle tecniche di stimolazione dei punti neurovascolari per migliorare la funzione cerebrale\, il benessere generale e alleviare lo stress (tratte dalTouch for Health – Kinesiologia Biosistematica) con Maria Cristina Sapori \npratica di esercizi di Movimento Integrato Bioenergetico per liberare le tensioni emotive represse\, migliorare il flusso di energia vitale e aumentare la consapevolezza di sé attraverso esercizi fisici e respiratori mirati per alleviare ansia\, stress e favorire vitalità e benessere con Maria Cristina Sapori \nraccolta dei fiori per la preparazione di Essenze Floreali e preparazione di Spray Vibrazionali per la purificazione e la protezione del nostro Campo Aurico con Maria Cristina Sapori \nBagni di Armonizzazione Sonora per immergersi nelle vibrazioni di Campane di Cristallo\, Tamburo Sciamanico\, Strumenti delle Tradizioni Antiche e Voce con Alessio Bennati (Alce Bianco e Linda Ferioli \npratica del Gibberish\, strumento di liberazione emotiva e creatività\, simile a un gioco o a una meditazione dinamica\, per “svuotare” la mente e uscire da schemi di pensiero razionali e giudicanti con Maria Cristina Sapori \ncostruzione del proprio Tamburo Sciamanico e la teoria e pratica per imparare a suonarlo (il corso è facoltativo e chi vuole costruire il proprio tamburo deve comunicarlo almeno 1 mese prima dell’inizio del Residenziale) con Alessio Bennati (Alce Bianco) e Linda Ferioli \nIl costo del Tamburo Sciamanico varia a secondo delle misure: \n– € 155 per il diametro 45 cm \n– € 175 (diametro 55 cm \n(naturalmente da aggiungere al costo del Residenziale) \n… momenti di svago\, relax \ne passeggiate al tramonto in riva al lago  \nCONTRIBUTO PER IL RESIDENZIALE OLISTICO DI 3 GIORNI \n(dalle 15 di venerdì alle ore 16\,30 di domenica)\, comprensivo di 2 \npernottamenti con colazioni\, pranzi e cene (cibo vegetariano e \nbiologico) tutte le attività con gli insegnanti e il materiale per la \npreparazione degli Spray Vibrazionali e delle Essenze Floreali: \n€ 396 a persona in camera doppia \n€ 369 a persona in camera tripla \n€ 339 a persona in camera quadrupla \n€ 435 in camera doppia uso singola (se c’è disponibilità) \nCon più di 15 allievi partecipanti ci sarà uno sconto: \n€ 369 a persona in camera doppia \n€ 339 a persona in camera tripla \n€ 315 in camera quadrupla \n€ 396 in camera doppia uso singola (se c’è disponibilità) \nE’ indispensabile comunicare la propria prenotazione entro il 15 \ngennaio 2026 e versare un acconto di € 55 entro il 31 gennaio \n2026. \nUn mese prima del Residenziale si verserà il secondo acconto di € \n55 e il saldo rimanente si verserà ad inizio Residenziale. \nIl Residenziale Olistico rilascia 50 ECP validi per il mantenimento \ndell’iscrizione nel Registro degli Operatori Olistici – SIAF Italia \nI POSTI SONO LIMITATI
URL:https://accademiaolisticalberodellavita.it/event/residenziale-olistico-estivo/
ATTACH;FMTTYPE=image/jpeg:https://accademiaolisticalberodellavita.it/wp-content/uploads/2025/12/TENUTA-FASSIA.jpeg
END:VEVENT
BEGIN:VEVENT
DTSTART;TZID=UTC:20260718T100000
DTEND;TZID=UTC:20260719T190000
DTSTAMP:20260419T224135
CREATED:20251227T215334Z
LAST-MODIFIED:20260416T191306Z
UID:9712-1784368800-1784487600@accademiaolisticalberodellavita.it
SUMMARY: Corso di formazione: E.F.T. e Ho' Oponopono: Tecniche vibrazionali per la Libertà Emotiva. Inizio corso: 18 e 19 luglio 2026
DESCRIPTION:IL CORSO SI SVOLGE IN DIRETTA ONLINE SU PIATTAFORMA ZOOM \nDocente: Maria Cristina Sapori \nContributo richiesto per il corso in diretta online su piattaforma ZOOM € 178\, comprensivi di dispensa di studio  e attestato di frequenza inviati online \nProgramma del corso teorico-esperienziale \n-Tecnica di Libertà Emozionale EFT \n-Tapping (picchiettamento) per il Riequilibrio Emozionale: come si esegue \n-Punti Allarme e Meridiani Energetici \n-Polarità e inversione psicologica \n-Come formulare affermazioni che neutralizzino l’inversione psicologica \n-La Sequenza \n-La Procedura 9 Gamma \n-Valutazione dell’assetto emozionale \n-Applicazioni successive di assestamento \n-Come scardinare le cristallizzazioni derivate dalle emozioni disarmoniche: \n-Esempi pratici\, esercizi e pratica della tecnica \n-Domande e risposte con esempi di casi \nHO’OPONOPONO: I punti chiave di Ho’Oponopono \n-I 3 Sé Interiori: -Supercosciente -Cosciente – Subcosciente \n-Imparare a fluire e a fidarci dell’Amore Universale \n-I 12 Passi di Oh’Oponopono \n-Forma Ho’Oponopono semplificata \n-Come portare la concentrazione sulla persona o sulla situazione sulla quale si pratica Ho’Oponopono \n-Comprensione approfondita del mantra di Ho’Oponopono: “Mi dispiace Perdonami Grazie Ti amo” \n-Preghiera di chiusura e ringraziamento \n-Come unire le 2 Tecniche di Liberazione Emozionali (EFT e HO’OPONOPONO) per ottenere risultati efficaci e duraturi
URL:https://accademiaolisticalberodellavita.it/event/e-f-t-e-hooponopono-tecniche-vibrazionali-per-la-liberta-emotiva-2/
CATEGORIES:Percorsi Brevi,Percorsi Brevi Interi
ATTACH;FMTTYPE=image/jpeg:https://accademiaolisticalberodellavita.it/wp-content/uploads/2021/08/condizionamenti.jpg
END:VEVENT
END:VCALENDAR